BEGIN:VCALENDAR
VERSION:2.0
PRODID:-//Paradise Historical Society - ECPv6.15.20//NONSGML v1.0//EN
CALSCALE:GREGORIAN
METHOD:PUBLISH
X-ORIGINAL-URL:https://paradisehistoricalsociety.ca
X-WR-CALDESC:Events for Paradise Historical Society
REFRESH-INTERVAL;VALUE=DURATION:PT1H
X-Robots-Tag:noindex
X-PUBLISHED-TTL:PT1H
BEGIN:VTIMEZONE
TZID:America/Halifax
BEGIN:DAYLIGHT
TZOFFSETFROM:-0400
TZOFFSETTO:-0300
TZNAME:ADT
DTSTART:20240310T060000
END:DAYLIGHT
BEGIN:STANDARD
TZOFFSETFROM:-0300
TZOFFSETTO:-0400
TZNAME:AST
DTSTART:20241103T050000
END:STANDARD
BEGIN:DAYLIGHT
TZOFFSETFROM:-0400
TZOFFSETTO:-0300
TZNAME:ADT
DTSTART:20250309T060000
END:DAYLIGHT
BEGIN:STANDARD
TZOFFSETFROM:-0300
TZOFFSETTO:-0400
TZNAME:AST
DTSTART:20251102T050000
END:STANDARD
BEGIN:DAYLIGHT
TZOFFSETFROM:-0400
TZOFFSETTO:-0300
TZNAME:ADT
DTSTART:20260308T060000
END:DAYLIGHT
BEGIN:STANDARD
TZOFFSETFROM:-0300
TZOFFSETTO:-0400
TZNAME:AST
DTSTART:20261101T050000
END:STANDARD
END:VTIMEZONE
BEGIN:VEVENT
DTSTART;TZID=America/Halifax:20250806T090000
DTEND;TZID=America/Halifax:20250806T120000
DTSTAMP:20260425T010738
CREATED:20250324T142102Z
LAST-MODIFIED:20250324T143847Z
UID:232917-1754470800-1754481600@paradisehistoricalsociety.ca
SUMMARY:Heritage Centre Summer Open Mornings
DESCRIPTION:Paradise Heritage Centre Open Mornings\nYou are invited to visit our Heritage Centre this summer and autumn. \nWe will be open Wednesday mornings starting May 7\, 2025 through November 12\, 2025 from 9 am – 12 noon. Coffee\, muffins\, and free WiFi will be available. \nWe have a reference library of local books and reference material you can leaf through or use to take notes for your own research. \nThe famous “Paradise Gazette” a 1935-36 student-crafted yearbook with fascinating pictures\, bios of the students of the day\, and insights into the curriculum of the time is also available. Thank you to Dave Whitman for this donation. It is amazing what students in a two-room school actually learned. \nOr just drop in with a friend or two for a quiet place to have some morning conversation over a cuppa in our comfy chairs. On nice days\, you can also enjoy the gardens with tables and benches outside. \nPlease look for our OPEN flag and stop in and say hello!
URL:https://paradisehistoricalsociety.ca/event/heritage-centre-summer-open-mornings-31/
LOCATION:Paradise Heritage Centre\, 10307 Highway #1\, Paradise\, Nova Scotia\, Canada
CATEGORIES:Heritage Centre Open Morning
ATTACH;FMTTYPE=image/jpeg:https://paradisehistoricalsociety.ca/wp-content/uploads/2024/04/Heritage-Centre-Coffee-Corner.jpg
END:VEVENT
BEGIN:VEVENT
DTSTART;TZID=America/Halifax:20250813T090000
DTEND;TZID=America/Halifax:20250813T120000
DTSTAMP:20260425T010738
CREATED:20250324T142148Z
LAST-MODIFIED:20250324T143839Z
UID:232918-1755075600-1755086400@paradisehistoricalsociety.ca
SUMMARY:Heritage Centre Summer Open Mornings
DESCRIPTION:Paradise Heritage Centre Open Mornings\nYou are invited to visit our Heritage Centre this summer and autumn. \nWe will be open Wednesday mornings starting May 7\, 2025 through November 12\, 2025 from 9 am – 12 noon. Coffee\, muffins\, and free WiFi will be available. \nWe have a reference library of local books and reference material you can leaf through or use to take notes for your own research. \nThe famous “Paradise Gazette” a 1935-36 student-crafted yearbook with fascinating pictures\, bios of the students of the day\, and insights into the curriculum of the time is also available. Thank you to Dave Whitman for this donation. It is amazing what students in a two-room school actually learned. \nOr just drop in with a friend or two for a quiet place to have some morning conversation over a cuppa in our comfy chairs. On nice days\, you can also enjoy the gardens with tables and benches outside. \nPlease look for our OPEN flag and stop in and say hello!
URL:https://paradisehistoricalsociety.ca/event/heritage-centre-summer-open-mornings-32/
LOCATION:Paradise Heritage Centre\, 10307 Highway #1\, Paradise\, Nova Scotia\, Canada
CATEGORIES:Heritage Centre Open Morning
ATTACH;FMTTYPE=image/jpeg:https://paradisehistoricalsociety.ca/wp-content/uploads/2024/04/Heritage-Centre-Coffee-Corner.jpg
END:VEVENT
BEGIN:VEVENT
DTSTART;TZID=America/Halifax:20250820T090000
DTEND;TZID=America/Halifax:20250820T120000
DTSTAMP:20260425T010738
CREATED:20250324T142226Z
LAST-MODIFIED:20250324T143830Z
UID:232919-1755680400-1755691200@paradisehistoricalsociety.ca
SUMMARY:Heritage Centre Summer Open Mornings
DESCRIPTION:Paradise Heritage Centre Open Mornings\nYou are invited to visit our Heritage Centre this summer and autumn. \nWe will be open Wednesday mornings starting May 7\, 2025 through November 12\, 2025 from 9 am – 12 noon. Coffee\, muffins\, and free WiFi will be available. \nWe have a reference library of local books and reference material you can leaf through or use to take notes for your own research. \nThe famous “Paradise Gazette” a 1935-36 student-crafted yearbook with fascinating pictures\, bios of the students of the day\, and insights into the curriculum of the time is also available. Thank you to Dave Whitman for this donation. It is amazing what students in a two-room school actually learned. \nOr just drop in with a friend or two for a quiet place to have some morning conversation over a cuppa in our comfy chairs. On nice days\, you can also enjoy the gardens with tables and benches outside. \nPlease look for our OPEN flag and stop in and say hello!
URL:https://paradisehistoricalsociety.ca/event/heritage-centre-summer-open-mornings-33/
LOCATION:Paradise Heritage Centre\, 10307 Highway #1\, Paradise\, Nova Scotia\, Canada
CATEGORIES:Heritage Centre Open Morning
ATTACH;FMTTYPE=image/jpeg:https://paradisehistoricalsociety.ca/wp-content/uploads/2024/04/Heritage-Centre-Coffee-Corner.jpg
END:VEVENT
BEGIN:VEVENT
DTSTART;TZID=America/Halifax:20250823T160000
DTEND;TZID=America/Halifax:20250823T190000
DTSTAMP:20260425T010738
CREATED:20250729T163937Z
LAST-MODIFIED:20250830T184234Z
UID:233083-1755964800-1755975600@paradisehistoricalsociety.ca
SUMMARY:Paradise 2025 Community BBQ & Corn Boil
DESCRIPTION:CANCELLED\nThis event will not take place on August 23\, 2025.\nIn view of the terrible fire burning and increasing\, and the risk of further fires very much a possibility\, as well as air quality issues that are very real… we are sorry to say that we can not have an outdoor event at this time. That means our BBQ and Corn Boil will not take place this Saturday the 23rd .Thank you to all volunteers supporting the fight to save homes and provide comfort to those evacuated. \n\n  \nParadise Historical Society would like to invite residents of Paradise to a Community BBQ and Corn Boil\nWe’ve had such an enjoyable time the last few years\, we hope you can join us again or join us for the first time. \nAll food is fresh and local. Come enjoy it with your neighbours! \nThe event will take place on Saturday\, August 23\, 2025\, from 4:00 – 7:00 pm at the Paradise Heritage Centre – rain or shine! \nThere are picnic tables but you are welcome to bring your lawn chairs or picnic blankets for seating. \nFree will donations are gratefully accepted.
URL:https://paradisehistoricalsociety.ca/event/bbq-2025/
LOCATION:Paradise Heritage Centre\, 10307 Highway #1\, Paradise\, Nova Scotia\, Canada
ATTACH;FMTTYPE=image/jpeg:https://paradisehistoricalsociety.ca/wp-content/uploads/2025/07/BBQ-Postponed.jpg
END:VEVENT
BEGIN:VEVENT
DTSTART;TZID=America/Halifax:20250827T090000
DTEND;TZID=America/Halifax:20250827T120000
DTSTAMP:20260425T010738
CREATED:20250324T142332Z
LAST-MODIFIED:20250324T143821Z
UID:232920-1756285200-1756296000@paradisehistoricalsociety.ca
SUMMARY:Heritage Centre Summer Open Mornings
DESCRIPTION:Paradise Heritage Centre Open Mornings\nYou are invited to visit our Heritage Centre this summer and autumn. \nWe will be open Wednesday mornings starting May 7\, 2025 through November 12\, 2025 from 9 am – 12 noon. Coffee\, muffins\, and free WiFi will be available. \nWe have a reference library of local books and reference material you can leaf through or use to take notes for your own research. \nThe famous “Paradise Gazette” a 1935-36 student-crafted yearbook with fascinating pictures\, bios of the students of the day\, and insights into the curriculum of the time is also available. Thank you to Dave Whitman for this donation. It is amazing what students in a two-room school actually learned. \nOr just drop in with a friend or two for a quiet place to have some morning conversation over a cuppa in our comfy chairs. On nice days\, you can also enjoy the gardens with tables and benches outside. \nPlease look for our OPEN flag and stop in and say hello!
URL:https://paradisehistoricalsociety.ca/event/heritage-centre-summer-open-mornings-34/
LOCATION:Paradise Heritage Centre\, 10307 Highway #1\, Paradise\, Nova Scotia\, Canada
CATEGORIES:Heritage Centre Open Morning
ATTACH;FMTTYPE=image/jpeg:https://paradisehistoricalsociety.ca/wp-content/uploads/2024/04/Heritage-Centre-Coffee-Corner.jpg
END:VEVENT
END:VCALENDAR