BEGIN:VCALENDAR
VERSION:2.0
PRODID:-//Paradise Historical Society - ECPv6.15.20//NONSGML v1.0//EN
CALSCALE:GREGORIAN
METHOD:PUBLISH
X-WR-CALNAME:Paradise Historical Society
X-ORIGINAL-URL:https://paradisehistoricalsociety.ca
X-WR-CALDESC:Events for Paradise Historical Society
REFRESH-INTERVAL;VALUE=DURATION:PT1H
X-Robots-Tag:noindex
X-PUBLISHED-TTL:PT1H
BEGIN:VTIMEZONE
TZID:America/Halifax
BEGIN:DAYLIGHT
TZOFFSETFROM:-0400
TZOFFSETTO:-0300
TZNAME:ADT
DTSTART:20230312T060000
END:DAYLIGHT
BEGIN:STANDARD
TZOFFSETFROM:-0300
TZOFFSETTO:-0400
TZNAME:AST
DTSTART:20231105T050000
END:STANDARD
BEGIN:DAYLIGHT
TZOFFSETFROM:-0400
TZOFFSETTO:-0300
TZNAME:ADT
DTSTART:20240310T060000
END:DAYLIGHT
BEGIN:STANDARD
TZOFFSETFROM:-0300
TZOFFSETTO:-0400
TZNAME:AST
DTSTART:20241103T050000
END:STANDARD
BEGIN:DAYLIGHT
TZOFFSETFROM:-0400
TZOFFSETTO:-0300
TZNAME:ADT
DTSTART:20250309T060000
END:DAYLIGHT
BEGIN:STANDARD
TZOFFSETFROM:-0300
TZOFFSETTO:-0400
TZNAME:AST
DTSTART:20251102T050000
END:STANDARD
END:VTIMEZONE
BEGIN:VEVENT
DTSTART;TZID=America/Halifax:20241106T090000
DTEND;TZID=America/Halifax:20241106T120000
DTSTAMP:20260425T134909
CREATED:20240730T231814Z
LAST-MODIFIED:20241023T134454Z
UID:232624-1730883600-1730894400@paradisehistoricalsociety.ca
SUMMARY:Heritage Centre Autumn Open Mornings
DESCRIPTION:Paradise Heritage Centre Open Mornings\nYou are invited to visit our Heritage Centre this autumn. \nThis will be our last Open Morning for the season. We will be open from 9 am – 12 noon. Coffee\, muffins\, and free WiFi will be available. \nWe have a reference library of local books and reference material you can leaf through or use to take notes for your own research. \nThe famous “Paradise Gazette” a 1935-36 student-crafted yearbook with fascinating pictures\, bios of the students of the day\, and insights into the curriculum of the time is also available. Thank you to Dave Whitman for this donation. It is amazing what students in a two-room school actually learned. \nOr just drop in with a friend or two for a quiet place to have some morning conversation over a cuppa in our comfy chairs. On nice days\, you can also enjoy the gardens with tables and benches outside. \nPlease look for our OPEN flag and stop in and say hello!
URL:https://paradisehistoricalsociety.ca/event/heritage-centre-autumn-open-mornings-10/
LOCATION:Paradise Heritage Centre\, 10307 Highway #1\, Paradise\, Nova Scotia\, Canada
ATTACH;FMTTYPE=image/jpeg:https://paradisehistoricalsociety.ca/wp-content/uploads/2024/04/Heritage-Centre-Coffee-Corner.jpg
END:VEVENT
BEGIN:VEVENT
DTSTART;TZID=America/Halifax:20241124T100000
DTEND;TZID=America/Halifax:20241124T150000
DTSTAMP:20260425T134909
CREATED:20241110T175740Z
LAST-MODIFIED:20241110T180338Z
UID:232775-1732442400-1732460400@paradisehistoricalsociety.ca
SUMMARY:Christmas Craft Fair
DESCRIPTION:Come join us for our 3rd Christmas Craft Fair!\nNovember 24\, 2024\, from 10:00 am to 3:00 pm. \nWe will have handmade crafts\, Christmas gifts\, best homebaking ever\, books by local authors\, wreaths\, porch signs\, and more! \nYou can also win a Gingerbread House! \nThe craft fair will be held at two sites: \nParadise Heritage Centre at 10307 Highway #1 \nAND \nParadise Community Hall at 10300 Highway #1 \n(these two sites are just across the street from each other)
URL:https://paradisehistoricalsociety.ca/event/christmas-craft-fair/
LOCATION:Paradise Heritage Centre\, 10307 Highway #1\, Paradise\, Nova Scotia\, Canada
ATTACH;FMTTYPE=image/jpeg:https://paradisehistoricalsociety.ca/wp-content/uploads/2024/11/Christmas-Craft-Fair-Flyer-2024-2.jpg
END:VEVENT
END:VCALENDAR