BEGIN:VCALENDAR
VERSION:2.0
PRODID:-//Paradise Historical Society - ECPv6.15.20//NONSGML v1.0//EN
CALSCALE:GREGORIAN
METHOD:PUBLISH
X-ORIGINAL-URL:https://paradisehistoricalsociety.ca
X-WR-CALDESC:Events for Paradise Historical Society
REFRESH-INTERVAL;VALUE=DURATION:PT1H
X-Robots-Tag:noindex
X-PUBLISHED-TTL:PT1H
BEGIN:VTIMEZONE
TZID:America/Halifax
BEGIN:DAYLIGHT
TZOFFSETFROM:-0400
TZOFFSETTO:-0300
TZNAME:ADT
DTSTART:20230312T060000
END:DAYLIGHT
BEGIN:STANDARD
TZOFFSETFROM:-0300
TZOFFSETTO:-0400
TZNAME:AST
DTSTART:20231105T050000
END:STANDARD
BEGIN:DAYLIGHT
TZOFFSETFROM:-0400
TZOFFSETTO:-0300
TZNAME:ADT
DTSTART:20240310T060000
END:DAYLIGHT
BEGIN:STANDARD
TZOFFSETFROM:-0300
TZOFFSETTO:-0400
TZNAME:AST
DTSTART:20241103T050000
END:STANDARD
BEGIN:DAYLIGHT
TZOFFSETFROM:-0400
TZOFFSETTO:-0300
TZNAME:ADT
DTSTART:20250309T060000
END:DAYLIGHT
BEGIN:STANDARD
TZOFFSETFROM:-0300
TZOFFSETTO:-0400
TZNAME:AST
DTSTART:20251102T050000
END:STANDARD
END:VTIMEZONE
BEGIN:VEVENT
DTSTART;TZID=America/Halifax:20240904T090000
DTEND;TZID=America/Halifax:20240904T120000
DTSTAMP:20260425T164921
CREATED:20240730T230849Z
LAST-MODIFIED:20240730T231311Z
UID:232601-1725440400-1725451200@paradisehistoricalsociety.ca
SUMMARY:Heritage Centre Autumn Open Mornings
DESCRIPTION:Paradise Heritage Centre Open Mornings\nYou are invited to visit our Heritage Centre this autumn. \nWe will be open Wednesday mornings starting May 8\, 2024 through November 13\, 2024 from 9 am – 12 noon. Coffee\, muffins\, and free WiFi will be available. \nWe have a reference library of local books and reference material you can leaf through or use to take notes for your own research. \nThe famous “Paradise Gazette” a 1935-36 student-crafted yearbook with fascinating pictures\, bios of the students of the day\, and insights into the curriculum of the time is also available. Thank you to Dave Whitman for this donation. It is amazing what students in a two-room school actually learned. \nOr just drop in with a friend or two for a quiet place to have some morning conversation over a cuppa in our comfy chairs. On nice days\, you can also enjoy the gardens with tables and benches outside. \nPlease look for our OPEN flag and stop in and say hello!
URL:https://paradisehistoricalsociety.ca/event/heritage-centre-autumn-open-mornings/
LOCATION:Paradise Heritage Centre\, 10307 Highway #1\, Paradise\, Nova Scotia\, Canada
ATTACH;FMTTYPE=image/jpeg:https://paradisehistoricalsociety.ca/wp-content/uploads/2024/04/Heritage-Centre-Coffee-Corner.jpg
END:VEVENT
BEGIN:VEVENT
DTSTART;TZID=America/Halifax:20240907T100000
DTEND;TZID=America/Halifax:20240907T170000
DTSTAMP:20260425T164921
CREATED:20240730T235716Z
LAST-MODIFIED:20240730T235912Z
UID:232644-1725703200-1725728400@paradisehistoricalsociety.ca
SUMMARY:Basket Making Workshop
DESCRIPTION:The Paradise Historical Society is hosting a basket-making workshop. \nShe is back! By popular request\, Linda\, our basket maker\, will once again share her gift with us. \nLearn how to weave your own basket and take it home with you! \nThis basket is not just decorative\, you will use it many times. \nDate & Time: Saturday\, September 7\, 2024\, from 10:00 am until your basket is finished \nLocation: Paradise Heritage Centre at 10307 Highway #1 in Paradise. \nCost: $60.00 which includes all the materials \nInstructor: Linda Hankinson \nPlease bring a lunch. \nUPDATE JULY 30th: All spots are booked\, but please contact us if you’d like to be added to the waiting list. We hope to be able to offer another workshop in early 2025. \nTo request a spot on the waiting list\, please message Barbara by direct/private message on the Paradise Historical Society Facebook page. \n \nHappy basket makers at our last workshop
URL:https://paradisehistoricalsociety.ca/event/basket-making-workshop-2/
LOCATION:Paradise Heritage Centre\, 10307 Highway #1\, Paradise\, Nova Scotia\, Canada
ATTACH;FMTTYPE=image/jpeg:https://paradisehistoricalsociety.ca/wp-content/uploads/2024/03/Basket-Making-Class.jpg
END:VEVENT
BEGIN:VEVENT
DTSTART;TZID=America/Halifax:20240911T090000
DTEND;TZID=America/Halifax:20240911T120000
DTSTAMP:20260425T164921
CREATED:20240730T230938Z
LAST-MODIFIED:20240730T231328Z
UID:232603-1726045200-1726056000@paradisehistoricalsociety.ca
SUMMARY:Heritage Centre Autumn Open Mornings
DESCRIPTION:Paradise Heritage Centre Open Mornings\nYou are invited to visit our Heritage Centre this autumn. \nWe will be open Wednesday mornings starting May 8\, 2024 through November 13\, 2024 from 9 am – 12 noon. Coffee\, muffins\, and free WiFi will be available. \nWe have a reference library of local books and reference material you can leaf through or use to take notes for your own research. \nThe famous “Paradise Gazette” a 1935-36 student-crafted yearbook with fascinating pictures\, bios of the students of the day\, and insights into the curriculum of the time is also available. Thank you to Dave Whitman for this donation. It is amazing what students in a two-room school actually learned. \nOr just drop in with a friend or two for a quiet place to have some morning conversation over a cuppa in our comfy chairs. On nice days\, you can also enjoy the gardens with tables and benches outside. \nPlease look for our OPEN flag and stop in and say hello!
URL:https://paradisehistoricalsociety.ca/event/heritage-centre-autumn-open-mornings-2/
LOCATION:Paradise Heritage Centre\, 10307 Highway #1\, Paradise\, Nova Scotia\, Canada
ATTACH;FMTTYPE=image/jpeg:https://paradisehistoricalsociety.ca/wp-content/uploads/2024/04/Heritage-Centre-Coffee-Corner.jpg
END:VEVENT
BEGIN:VEVENT
DTSTART;TZID=America/Halifax:20240914T100000
DTEND;TZID=America/Halifax:20240914T140000
DTSTAMP:20260425T164921
CREATED:20240809T141805Z
LAST-MODIFIED:20240827T163303Z
UID:232707-1726308000-1726322400@paradisehistoricalsociety.ca
SUMMARY:Nautical Rope Bowl Workshop
DESCRIPTION:The Paradise Historical Society is hosting a Nautical Rope Bowl workshop. \nNautical rope knots have been used for centuries by mariners to secure sails and rigging on ships and boats. Variations or repetitions of certain knots can create a variety of functional and decorative items\, such as mats that protect decks from the rigging\, to surround railings or to stand on for cushioning. \nPresenter\, Karen Morley\, resides in Cottage Cove where she makes items from “reclaimed” lobster rope and sells them at the Clarence Market on Sundays. \nKaren invites you to join her to learn this art of decorative nautical knot making. \nParticipants will learn how to first create a nautical thump mat which will then be turned into a bowl. This useful bowl\, approximately 10 inches in diameter\, can hold fruits\, bread or any items you wish. \nA choice of 2 colours as below of reclaimed rope from a lobster fishing boat will be provided. \nWritten instructions will be provided. \nDate & Time: Saturday\, September 14\, 2024\, from 10:00 am – 2:00 pm (or until your bowl is finished) \nLocation: Paradise Heritage Centre at 10307 Highway #1 in Paradise. \nCost: $50.00 which includes all the materials \nInstructor: Karen Morley \nPlease bring a lunch. \nUPDATE AUGUST 27TH: All spots are booked\, but please contact us if you’d like to be added to the waiting list. \nTo request a spot on the waiting list\, please send an email to Barbara or send her a direct/private message on the Paradise Historical Society Facebook page. \nPlease click HERE to send Barbara an email.
URL:https://paradisehistoricalsociety.ca/event/nautical-rope-bowl-workshop/
LOCATION:Paradise Heritage Centre\, 10307 Highway #1\, Paradise\, Nova Scotia\, Canada
ATTACH;FMTTYPE=image/jpeg:https://paradisehistoricalsociety.ca/wp-content/uploads/2024/08/PHS-Rope-Bowl-Workshop-1.jpg
END:VEVENT
BEGIN:VEVENT
DTSTART;TZID=America/Halifax:20240918T090000
DTEND;TZID=America/Halifax:20240918T120000
DTSTAMP:20260425T164921
CREATED:20240730T231036Z
LAST-MODIFIED:20240730T231341Z
UID:232605-1726650000-1726660800@paradisehistoricalsociety.ca
SUMMARY:Heritage Centre Autumn Open Mornings
DESCRIPTION:Paradise Heritage Centre Open Mornings\nYou are invited to visit our Heritage Centre this autumn. \nWe will be open Wednesday mornings starting May 8\, 2024 through November 13\, 2024 from 9 am – 12 noon. Coffee\, muffins\, and free WiFi will be available. \nWe have a reference library of local books and reference material you can leaf through or use to take notes for your own research. \nThe famous “Paradise Gazette” a 1935-36 student-crafted yearbook with fascinating pictures\, bios of the students of the day\, and insights into the curriculum of the time is also available. Thank you to Dave Whitman for this donation. It is amazing what students in a two-room school actually learned. \nOr just drop in with a friend or two for a quiet place to have some morning conversation over a cuppa in our comfy chairs. On nice days\, you can also enjoy the gardens with tables and benches outside. \nPlease look for our OPEN flag and stop in and say hello!
URL:https://paradisehistoricalsociety.ca/event/heritage-centre-autumn-open-mornings-3/
LOCATION:Paradise Heritage Centre\, 10307 Highway #1\, Paradise\, Nova Scotia\, Canada
ATTACH;FMTTYPE=image/jpeg:https://paradisehistoricalsociety.ca/wp-content/uploads/2024/04/Heritage-Centre-Coffee-Corner.jpg
END:VEVENT
BEGIN:VEVENT
DTSTART;TZID=America/Halifax:20240925T090000
DTEND;TZID=America/Halifax:20240925T120000
DTSTAMP:20260425T164921
CREATED:20240730T231129Z
LAST-MODIFIED:20240730T231355Z
UID:232607-1727254800-1727265600@paradisehistoricalsociety.ca
SUMMARY:Heritage Centre Autumn Open Mornings
DESCRIPTION:Paradise Heritage Centre Open Mornings\nYou are invited to visit our Heritage Centre this autumn. \nWe will be open Wednesday mornings starting May 8\, 2024 through November 13\, 2024 from 9 am – 12 noon. Coffee\, muffins\, and free WiFi will be available. \nWe have a reference library of local books and reference material you can leaf through or use to take notes for your own research. \nThe famous “Paradise Gazette” a 1935-36 student-crafted yearbook with fascinating pictures\, bios of the students of the day\, and insights into the curriculum of the time is also available. Thank you to Dave Whitman for this donation. It is amazing what students in a two-room school actually learned. \nOr just drop in with a friend or two for a quiet place to have some morning conversation over a cuppa in our comfy chairs. On nice days\, you can also enjoy the gardens with tables and benches outside. \nPlease look for our OPEN flag and stop in and say hello!
URL:https://paradisehistoricalsociety.ca/event/heritage-centre-autumn-open-mornings-4/
LOCATION:Paradise Heritage Centre\, 10307 Highway #1\, Paradise\, Nova Scotia\, Canada
ATTACH;FMTTYPE=image/jpeg:https://paradisehistoricalsociety.ca/wp-content/uploads/2024/04/Heritage-Centre-Coffee-Corner.jpg
END:VEVENT
END:VCALENDAR