BEGIN:VCALENDAR
VERSION:2.0
PRODID:-//Paradise Historical Society - ECPv6.15.20//NONSGML v1.0//EN
CALSCALE:GREGORIAN
METHOD:PUBLISH
X-ORIGINAL-URL:https://paradisehistoricalsociety.ca
X-WR-CALDESC:Events for Paradise Historical Society
REFRESH-INTERVAL;VALUE=DURATION:PT1H
X-Robots-Tag:noindex
X-PUBLISHED-TTL:PT1H
BEGIN:VTIMEZONE
TZID:America/Halifax
BEGIN:DAYLIGHT
TZOFFSETFROM:-0400
TZOFFSETTO:-0300
TZNAME:ADT
DTSTART:20230312T060000
END:DAYLIGHT
BEGIN:STANDARD
TZOFFSETFROM:-0300
TZOFFSETTO:-0400
TZNAME:AST
DTSTART:20231105T050000
END:STANDARD
BEGIN:DAYLIGHT
TZOFFSETFROM:-0400
TZOFFSETTO:-0300
TZNAME:ADT
DTSTART:20240310T060000
END:DAYLIGHT
BEGIN:STANDARD
TZOFFSETFROM:-0300
TZOFFSETTO:-0400
TZNAME:AST
DTSTART:20241103T050000
END:STANDARD
BEGIN:DAYLIGHT
TZOFFSETFROM:-0400
TZOFFSETTO:-0300
TZNAME:ADT
DTSTART:20250309T060000
END:DAYLIGHT
BEGIN:STANDARD
TZOFFSETFROM:-0300
TZOFFSETTO:-0400
TZNAME:AST
DTSTART:20251102T050000
END:STANDARD
END:VTIMEZONE
BEGIN:VEVENT
DTSTART;TZID=America/Halifax:20240504T090000
DTEND;TZID=America/Halifax:20240504T163000
DTSTAMP:20260425T225411
CREATED:20240307T191348Z
LAST-MODIFIED:20240307T191348Z
UID:232482-1714813200-1714840200@paradisehistoricalsociety.ca
SUMMARY:Basket Making Workshop
DESCRIPTION:The Paradise Historical Society is hosting a basket-making workshop.  \nLearn how to weave your own basket and take it home with you! \nThis basket is not just decorative\, you will use it many times. \nDate & Time: Saturday May 4th\, 2024 from 9:00 am to 4:30 pm \nLocation: Paradise Heritage Centre at 10307 Highway #1 in Paradise. \nCost: $55.00 which includes all the materials \nInstructor: Linda Hankinson \nPlease bring a lunch. \nThere are 12 spots available. \nTo reserve your spot\, please contact Barbara at 825-9198 or send her a direct/private message on the Paradise Historical Society Facebook page. \nUPDATE MARCH 7th: All spots are booked\, but please contact us if you’d like to be added to the waiting list. \n 
URL:https://paradisehistoricalsociety.ca/event/basket-making-workshop/
LOCATION:Paradise Heritage Centre\, 10307 Highway #1\, Paradise\, Nova Scotia\, Canada
ATTACH;FMTTYPE=image/jpeg:https://paradisehistoricalsociety.ca/wp-content/uploads/2024/03/Basket-Making-Class.jpg
END:VEVENT
BEGIN:VEVENT
DTSTART;TZID=America/Halifax:20240508T090000
DTEND;TZID=America/Halifax:20240508T120000
DTSTAMP:20260425T225411
CREATED:20240425T175143Z
LAST-MODIFIED:20240425T175143Z
UID:232536-1715158800-1715169600@paradisehistoricalsociety.ca
SUMMARY:Heritage Centre Summer Open Mornings
DESCRIPTION:Paradise Heritage Centre Open Mornings\nYou are invited to visit our Heritage Centre this summer. \nWe will be open Wednesday mornings starting May 8\, 2024 from 9 am – 12 noon. Coffee\, muffins\, and free WiFi will be available. \nWe have a reference library of local books and reference material you can leaf through or use to take notes for your own research. \nThe famous “Paradise Gazette” a 1935-36 student-crafted yearbook with fascinating pictures\, bios of the students of the day\, and insights into the curriculum of the time is also available. Thank you to Dave Whitman for this donation. It is amazing what students in a two-room school actually learned. \nOr just drop in with a friend or two for a quiet place to have some morning conversation over a cuppa in our comfy chairs. On nice days\, you can also enjoy the gardens with tables and benches outside. \nPlease look for our OPEN flag and stop in and say hello!
URL:https://paradisehistoricalsociety.ca/event/heritage-centre-summer-open-mornings/
LOCATION:Paradise Heritage Centre\, 10307 Highway #1\, Paradise\, Nova Scotia\, Canada
ATTACH;FMTTYPE=image/jpeg:https://paradisehistoricalsociety.ca/wp-content/uploads/2024/04/Heritage-Centre-Coffee-Corner.jpg
END:VEVENT
BEGIN:VEVENT
DTSTART;TZID=America/Halifax:20240515T090000
DTEND;TZID=America/Halifax:20240515T120000
DTSTAMP:20260425T225411
CREATED:20240425T175406Z
LAST-MODIFIED:20240425T175406Z
UID:232542-1715763600-1715774400@paradisehistoricalsociety.ca
SUMMARY:Heritage Centre Summer Open Mornings
DESCRIPTION:Paradise Heritage Centre Open Mornings\nYou are invited to visit our Heritage Centre this summer. \nWe will be open Wednesday mornings starting May 8\, 2024 from 9 am – 12 noon. Coffee\, muffins\, and free WiFi will be available. \nWe have a reference library of local books and reference material you can leaf through or use to take notes for your own research. \nThe famous “Paradise Gazette” a 1935-36 student-crafted yearbook with fascinating pictures\, bios of the students of the day\, and insights into the curriculum of the time is also available. Thank you to Dave Whitman for this donation. It is amazing what students in a two-room school actually learned. \nOr just drop in with a friend or two for a quiet place to have some morning conversation over a cuppa in our comfy chairs. On nice days\, you can also enjoy the gardens with tables and benches outside. \nPlease look for our OPEN flag and stop in and say hello!
URL:https://paradisehistoricalsociety.ca/event/heritage-centre-summer-open-mornings-2/
LOCATION:Paradise Heritage Centre\, 10307 Highway #1\, Paradise\, Nova Scotia\, Canada
ATTACH;FMTTYPE=image/jpeg:https://paradisehistoricalsociety.ca/wp-content/uploads/2024/04/Heritage-Centre-Coffee-Corner.jpg
END:VEVENT
BEGIN:VEVENT
DTSTART;TZID=America/Halifax:20240521T183000
DTEND;TZID=America/Halifax:20240521T200000
DTSTAMP:20260425T225411
CREATED:20240425T181137Z
LAST-MODIFIED:20240425T181803Z
UID:232548-1716316200-1716321600@paradisehistoricalsociety.ca
SUMMARY:Open House and Paradise Historical Society AGM
DESCRIPTION:You are invited to an Open House and the Annual General Meeting of the Paradise Historical Society \nDate & Time: Tuesday\, May 21 at 6:30 pm. \nLocation: Paradise Heritage Centre at 10307 Highway #1 in Paradise \nThere will be refreshments\, displays\, and reports on all of our progress. \nYou can hear about our plans for the future of the Heritage Centre and its place in our community. \nThis year’s raffle offerings will be set up for you to admire; each of the three items- quilt\, painting\, and hooked rug- represent the gifts of our artists and crafters and the beauty of this part of the world we call home.
URL:https://paradisehistoricalsociety.ca/event/agm-2024/
LOCATION:Paradise Heritage Centre\, 10307 Highway #1\, Paradise\, Nova Scotia\, Canada
ATTACH;FMTTYPE=image/jpeg:https://paradisehistoricalsociety.ca/wp-content/uploads/2023/05/Paradise-Heritage-Centre-Spring-2023.jpg
END:VEVENT
BEGIN:VEVENT
DTSTART;TZID=America/Halifax:20240522T090000
DTEND;TZID=America/Halifax:20240522T120000
DTSTAMP:20260425T225411
CREATED:20240425T180301Z
LAST-MODIFIED:20240425T180301Z
UID:232544-1716368400-1716379200@paradisehistoricalsociety.ca
SUMMARY:Heritage Centre Summer Open Mornings
DESCRIPTION:Paradise Heritage Centre Open Mornings\nYou are invited to visit our Heritage Centre this summer. \nWe will be open Wednesday mornings starting May 8\, 2024 from 9 am – 12 noon. Coffee\, muffins\, and free WiFi will be available. \nWe have a reference library of local books and reference material you can leaf through or use to take notes for your own research. \nThe famous “Paradise Gazette” a 1935-36 student-crafted yearbook with fascinating pictures\, bios of the students of the day\, and insights into the curriculum of the time is also available. Thank you to Dave Whitman for this donation. It is amazing what students in a two-room school actually learned. \nOr just drop in with a friend or two for a quiet place to have some morning conversation over a cuppa in our comfy chairs. On nice days\, you can also enjoy the gardens with tables and benches outside. \nPlease look for our OPEN flag and stop in and say hello!
URL:https://paradisehistoricalsociety.ca/event/heritage-centre-summer-open-mornings-3/
LOCATION:Paradise Heritage Centre\, 10307 Highway #1\, Paradise\, Nova Scotia\, Canada
ATTACH;FMTTYPE=image/jpeg:https://paradisehistoricalsociety.ca/wp-content/uploads/2024/04/Heritage-Centre-Coffee-Corner.jpg
END:VEVENT
BEGIN:VEVENT
DTSTART;VALUE=DATE:20240524
DTEND;VALUE=DATE:20240526
DTSTAMP:20260425T225411
CREATED:20240215T190152Z
LAST-MODIFIED:20240521T174327Z
UID:232380-1716508800-1716681599@paradisehistoricalsociety.ca
SUMMARY:Hidden Histories of Annapolis County
DESCRIPTION:Please join us for a spring conference about the Hidden Histories of Annapolis County.\nThe keynote speaker will be Brenda J. Thompson\, author of A Wholesome Horror – Poor Houses in Nova Scotia. \nGuest presenters will be Laura Churchill Duke\, Warden Alex Morrison\, and Heather Leblanc of Mapannapolis. \nDATE: Friday\, May 24th in the evening and Saturday\, May 25th all day. \nCOST: $60  / Early Bird Registration Fee of $50 only available before May 1\, 2024 \nCost includes lunch (sandwich and salad) provided by Perky Loaf and coffee/tea and dessert provided by Paradise Historical Society. \nEvent Schedule\nFriday Evening\n7:00 – 7:30: Registration Check-In \n7:30: Hidden History as a Quilt with Brenda Thompson  [Keynote Speaker and Discussion] \nSaturday\n9:00: Good Morning Coffee/Tea \n9:30 – 10:45: Footsteps in the Snow and Discussion with Laura Churchill Duke \n10:45 – 11:15: Break \n11:15 – 12:30: The Forgotten Scots with Warden Alex Morrison \n12:30 – 1:30: Lunch \n1:30-2:45: Mapannapolis with Heather LeBlanc \n2:45: Plenary Session – What next? \n3:30: Closing \nThe conference is full. Thank you to all who registered. We look forward to seeing you!\nOur Presenters\n\n\n\n\n	KEYNOTE SPEAKER: Brenda J. Thompson\n\nBrenda brings unique gifts to the task of finding our Hidden Histories. She has a Master’s degree in Sociology from Acadia University\, life experience as a ‘welfare mother’ and low-wage earner\, a passion for local history AND a natural talent for cogent and compelling writing.\n\nShe is well-equipped to help us clear the mists of nostalgia from the realities of our ancestors’ world.\n\nSometimes her writing is touching and almost light-hearted\, as in her monologue play based on the memoirs of Lester Beeler of West Dalhousie (side note: this was performed to the delight of all in the Paradise Community Hall once).\n\nSometimes it is enlightening\, as in Finding Fortune: Documenting and Imagining the Life of Rose Fortune.\n\nIt can be searing\, as in Vol 2 of A Wholesome Horror\, the story of Poor Houses in Nova Scotia.\n\nAnd it can be unflinching\, as in her newest work\, Enslavers of the Maritimes.\n\nIn 2019\, Brenda established Moose House Publications to provide an outlet for writers in\, and of\, rural Nova Scotia. A browse through the Moose House website shows how many of us love to write and have much to offer. This company is a huge promoter of Nova Scotian history\, arts and culture.\n\nBrenda lives in Perotte Settlement\, near Annapolis Royal.\n\n\n	\n\n \n \n\nGUEST SPEAKER: Laura Churchill Duke\n\nLaura is an Annapolis Valley journalist and the award-winning author of Two Crows Sorrow and Rooted in Deception. These true crime novels take us to an Annapolis Valley we have forgotten or never knew- rural life in the valley at the turn of the last century. \n\nShe is not only a writer; she is a communication and public relations specialist who uses her creative and organizational skills to benefit others. It is she who organizes the signature event for Campaign for Kids each year- you know it as Burger Wars! \n\nAnd she is a team member of the successful local business\, Your Last Resort\, helping people to clear the clutter when they need to and make positive changes in their lives. \n\nLaura lives in Kentville with her husband\, David\, and her two sons\, Daniel and Thomas\, and several rescue animals.\n\nLaura's Presentation: Footsteps in the Snow\n\nOn an early January morning in 1896\, 15-year-old Annie Kempton is found murdered in her own home in Bear River\, Nova Scotia. Within the next few hours\, Peter Wheeler\, a come-from-away of dubious origin\, is blamed for the murder and subsequently arrested. The community right away focuses all their attention on this outsider.\n \nLaura will talk about the specific complications of jurisdiction and legal procedures in that time and place- e.g. Bear River lies in two counties - Annapolis and Digby- but also about the social fabric which was the setting for the events.\n\nWe will be given access to her methods and thought processes as she researches and writes. Reviews of her books speak of them as “chair-gripping” and “visceral”. We may learn from Laura how it is that we can both recover a story that matters\, one lost in time\, and feel that story as if we were there. \n\nFootprints in the Snow is slated to be published in early fall 2024 with Moose House Publications.\n\n\n\n	GUEST SPEAKER: Warden Alex Morrison\n\nAlex Morrison is currently the Warden of Annapolis County and has been a member of County Council for twelve years. \n\nHe served over 40 years as a career Canadian Army officer\, including with Canada’s North American Treaty Organization forces in Germany during the Cold War\, Headquarters of the United Nations Peacekeeping Force in Cyprus\, and six years as a member of the diplomatic staff of the Permanent Mission to the United Nations in New York. He has taught at Canadian and American universities and at Japanese security institutions.\n \nAlex is the Founding President of the Pearson Peacekeeping Centre. Also\, he is the author\, co-author\, editor\, co-editor of over 30 books on various aspects of Canadian military history\, and on international security affairs. Two titles are The Voice of Defence: the History of the Conference of Defence Associations\, and\, with Ted Slaney\, The Breed of Manly Men: the History of the Cape Breton Highlanders.\n\nWarden Morrison's Presentation: The Forgotten Scots of Nova Scotia: Time for a Renaissance\n\nAlex Morrison contends that the contributions of Sir William Alexander to the development of Nova Scotia have been unappreciated and that the time has come recognize them. \n\nUntil relatively recently\, the location of the Scottish fort\, “Charles Fort”\, had not been firmly established. After much historical and anthropological “detective” work\, the site is now well established and suitably marked.  Learn more about why this matters\, and how this person and this time have been so important to our province. . \n\n\n\n\n	\n\n \n \n\nGUEST SPEAKER: Heather LeBlanc\n\nHeather LeBlanc is the principal of HAL Consulting Incorporated\, established in 1997. Her interest in people and their communities has translated into ideas and action in rural economic development\, community planning\, education\, culture and heritage. \n\nShe has served as Executive Director of several boards and committees of non-profit organizations. She was instrumental in the creation and development of Mapannapolis\, and has been project manager since its inception in 2012. \n\nThis community legacy project\, designed by the community itself\, reflects her deep interest in the County’s cultural and heritage importance to the Province and Canada. \n\nMapannapolis\n\nIn 2011 a small group of seniors started talking about mapping Annapolis County assets. The consensus: the maps would have to be created from scratch. \n\nTraditional Annapolis County maps didn’t show what we wanted them to show. We wanted maps of our distinctive homes; we wanted to see the churches where we worshiped our whole lives\, and where our people were buried. A map of Annapolis County should show how the tides were tamed\, and the saltwater marshes recovered\, and planted in grain. \n\nWhat were the stories of the early bridges and railway lines that tied our County together?\n\nWhere were the maps of the very earliest European settlements here\, and the names of the Scots and French and English who arrived here first? \n\nAnd before that\, the Mi’kmaw: where were their travel-ways and settlements?\n\nAnnapolis County Seniors and students from the Centre for Geographic Sciences (COGS) teamed up\, students teaching seniors\, and today mapannapolis.ca hosts hand-made\, home-made maps using state-of-art digital map-making tools. Using their mobile app the maps offer self-guided tours which include thousands of heritage homes and structures; churches and their graveyards complete with inventories of the buried; community walks; existing and long-gone wharves; the thought-lost Acadian grave sites and remains of the St. Jean-Baptiste Parish Church discovered in 2018 at Fort Anne National Historic Site.\n\nMapannapolis does not just map; it uncovers the hidden layers of our history.  From the Acadian Deportation from Annapolis Royal to the first Black Loyalist settlements to the ever-evolving stories of our home communities\, Mapannapolis maps our stories\, helping us discover ourselves.\n\nMapannapolis has been  recognized by the Governor General of Canada for Excellence in Community History Programming.\n\n\n\n	\n\n\n\n\n \nRegister and Purchase Your Ticket\nThe conference is full. Thank you to all who registered. We look forward to seeing you!\n 
URL:https://paradisehistoricalsociety.ca/event/hidden-history/
LOCATION:Paradise Heritage Centre\, 10307 Highway #1\, Paradise\, Nova Scotia\, Canada
ATTACH;FMTTYPE=image/jpeg:https://paradisehistoricalsociety.ca/wp-content/uploads/2024/02/Hidden-Histories-Conference-Poster.jpg
END:VEVENT
BEGIN:VEVENT
DTSTART;TZID=America/Halifax:20240529T090000
DTEND;TZID=America/Halifax:20240529T120000
DTSTAMP:20260425T225411
CREATED:20240425T180418Z
LAST-MODIFIED:20240425T180418Z
UID:232546-1716973200-1716984000@paradisehistoricalsociety.ca
SUMMARY:Heritage Centre Summer Open Mornings
DESCRIPTION:Paradise Heritage Centre Open Mornings\nYou are invited to visit our Heritage Centre this summer. \nWe will be open Wednesday mornings starting May 8\, 2024 from 9 am – 12 noon. Coffee\, muffins\, and free WiFi will be available. \nWe have a reference library of local books and reference material you can leaf through or use to take notes for your own research. \nThe famous “Paradise Gazette” a 1935-36 student-crafted yearbook with fascinating pictures\, bios of the students of the day\, and insights into the curriculum of the time is also available. Thank you to Dave Whitman for this donation. It is amazing what students in a two-room school actually learned. \nOr just drop in with a friend or two for a quiet place to have some morning conversation over a cuppa in our comfy chairs. On nice days\, you can also enjoy the gardens with tables and benches outside. \nPlease look for our OPEN flag and stop in and say hello!
URL:https://paradisehistoricalsociety.ca/event/heritage-centre-summer-open-mornings-4/
LOCATION:Paradise Heritage Centre\, 10307 Highway #1\, Paradise\, Nova Scotia\, Canada
ATTACH;FMTTYPE=image/jpeg:https://paradisehistoricalsociety.ca/wp-content/uploads/2024/04/Heritage-Centre-Coffee-Corner.jpg
END:VEVENT
END:VCALENDAR