BEGIN:VCALENDAR
VERSION:2.0
PRODID:-//Paradise Historical Society - ECPv6.15.20//NONSGML v1.0//EN
CALSCALE:GREGORIAN
METHOD:PUBLISH
X-WR-CALNAME:Paradise Historical Society
X-ORIGINAL-URL:https://paradisehistoricalsociety.ca
X-WR-CALDESC:Events for Paradise Historical Society
REFRESH-INTERVAL;VALUE=DURATION:PT1H
X-Robots-Tag:noindex
X-PUBLISHED-TTL:PT1H
BEGIN:VTIMEZONE
TZID:America/Halifax
BEGIN:DAYLIGHT
TZOFFSETFROM:-0400
TZOFFSETTO:-0300
TZNAME:ADT
DTSTART:20220313T060000
END:DAYLIGHT
BEGIN:STANDARD
TZOFFSETFROM:-0300
TZOFFSETTO:-0400
TZNAME:AST
DTSTART:20221106T050000
END:STANDARD
BEGIN:DAYLIGHT
TZOFFSETFROM:-0400
TZOFFSETTO:-0300
TZNAME:ADT
DTSTART:20230312T060000
END:DAYLIGHT
BEGIN:STANDARD
TZOFFSETFROM:-0300
TZOFFSETTO:-0400
TZNAME:AST
DTSTART:20231105T050000
END:STANDARD
BEGIN:DAYLIGHT
TZOFFSETFROM:-0400
TZOFFSETTO:-0300
TZNAME:ADT
DTSTART:20240310T060000
END:DAYLIGHT
BEGIN:STANDARD
TZOFFSETFROM:-0300
TZOFFSETTO:-0400
TZNAME:AST
DTSTART:20241103T050000
END:STANDARD
END:VTIMEZONE
BEGIN:VEVENT
DTSTART;TZID=America/Halifax:20230910T100000
DTEND;TZID=America/Halifax:20230910T160000
DTSTAMP:20260425T125826
CREATED:20230724T191259Z
LAST-MODIFIED:20230724T191259Z
UID:3547-1694340000-1694361600@paradisehistoricalsociety.ca
SUMMARY:Rug Hooking Workshop
DESCRIPTION:BACK BY POPULAR DEMAND!\nThe Paradise Historical Society will be hosting a second Rug Hooking Workshop. \nA comprehensive\, hands-on\, beginner rug hooking course will be held at the Paradise Heritage Centre at 10307 Highway #1 in Paradise. \nFrom drawing your pattern to finishing the edges\, you will learn everything needed to complete your first rug hooking project. \nFee: $55.00 – Includes your pattern\, red dot fabric\, linen\, a wool gift pack\, precut wool strips\, and an information packet to connect you with everything available to rug hookers in Nova Scotia. \nWe will have frames\, hooks\, and scissors for you to use while you are here\, as well as a vendor display should you wish to buy or order these items. \nFree coffee\, tea\, and muffins will be provided. Please bring your own lunch. \nWorkshop capacity of 10 adults. \nTo reserve your spot\, please contact Barbara at 825-9198 or send her a direct/private message on the Paradise Historical Society Facebook page.
URL:https://paradisehistoricalsociety.ca/event/rug-hooking-workshop/
LOCATION:Paradise Heritage Centre\, 10307 Highway #1\, Paradise\, Nova Scotia\, Canada
ATTACH;FMTTYPE=image/jpeg:https://paradisehistoricalsociety.ca/wp-content/uploads/2023/07/Rug-Hooking-Workshop-1.jpg
END:VEVENT
BEGIN:VEVENT
DTSTART;TZID=America/Halifax:20230909T090000
DTEND;TZID=America/Halifax:20230909T103000
DTSTAMP:20260425T125826
CREATED:20230818T213420Z
LAST-MODIFIED:20230906T143050Z
UID:3588-1694250000-1694255400@paradisehistoricalsociety.ca
SUMMARY:Writer's Talk & Workshop
DESCRIPTION:Author Talk & Workshop\nNovel Writing: The Art of Blending Fact\, Fiction and Fantasy \nwith Karen (Leonard) Kelloway\nWhen: 9 – 10:30 am\, Saturday\, Sept. 9th \nLocation: The Paradise Heritage Centre \nDid you know that Karen went to the Paradise School as a child and was in the last class before it closed? \nGrowing up in a small community certainly inspired her writing. In her workshop\, she will give an overview of her latest novel and share tips on how she achieves a balance of realism while maintaining the mystique of the imaginary or unknown. \nSpecifically\, Karen will discuss: \n\nThe three anchors that shaped her latest novel\, Keepers of the Pact\nHer research that yielded unexpected literary treasures\nThe efforts made to weave in authentic Indigenous elements\n\nIn this interactive session\, participants learn how to strengthen their fictional story through fact-checking and flow; how to allow their characters to evolve the story; and how to navigate editorial decisions. \nFeel free to bring existing material to work on in the writing exercises. \nWhether you’re just looking for a creative way to spend your Saturday morning or are working on your own manuscript\, All Welcome! \nCost: Adults: $34.50 (includes HST);  Students FREE \nPay upon arrival or E-transfer to karenkelloway@eastlink.ca \nKeepers of the Pact is now available at Endless Shores Books.  Can’t make the workshop? Karen will be doing a book signing at Endless Shores Books later on Saturday from 1-2:30 pm. \nhttps://karenkelloway.com/keepers-of-the-pact/
URL:https://paradisehistoricalsociety.ca/event/writers-talk-workshop/
LOCATION:Paradise Heritage Centre\, 10307 Highway #1\, Paradise\, Nova Scotia\, Canada
ATTACH;FMTTYPE=image/jpeg:https://paradisehistoricalsociety.ca/wp-content/uploads/2023/08/Writers-Talk-and-Workshop-2.jpg
END:VEVENT
BEGIN:VEVENT
DTSTART;TZID=America/Halifax:20230908T140000
DTEND;TZID=America/Halifax:20230908T160000
DTSTAMP:20260425T125826
CREATED:20230823T170129Z
LAST-MODIFIED:20230823T170232Z
UID:232135-1694181600-1694188800@paradisehistoricalsociety.ca
SUMMARY:Meet & Greet our M.L.A. Carman Kerr
DESCRIPTION:Meet & Greet with Mr. Carman Kerr\, M.L.A.\nPlease feel free to drop into the Paradise Heritage Centre to meet our M.L.A. for the constituency of Annapolis. \nClick for more information about Mr. Kerr.
URL:https://paradisehistoricalsociety.ca/event/meet-greet-our-mla-carman-kerr/
LOCATION:Paradise Heritage Centre\, 10307 Highway #1\, Paradise\, Nova Scotia\, Canada
ATTACH;FMTTYPE=image/jpeg:https://paradisehistoricalsociety.ca/wp-content/uploads/2023/08/Carmen-Kerr-Meet-Greet-2.jpg
END:VEVENT
BEGIN:VEVENT
DTSTART;TZID=America/Halifax:20230826T160000
DTEND;TZID=America/Halifax:20230826T190000
DTSTAMP:20260425T125826
CREATED:20230724T192928Z
LAST-MODIFIED:20230824T004156Z
UID:3554-1693065600-1693076400@paradisehistoricalsociety.ca
SUMMARY:3rd Annual Meet & Greet BBQ
DESCRIPTION:Paradise Historical Society would like to invite residents of Paradise to a FREE barbecue and corn boil. \nWe’ve had such an enjoyable time the last couple of years\, we hope you are able to join us again or for the first time. \nPlease come to enjoy BBQ\, corn on the cob\, and chat with neighbours – old and new! \nThe event will take place on Saturday\, August 26\, 2023 from 4:00 – 7:00 pm (with food served between 4:00 – 6:00 pm) on the grounds of the Paradise School Heritage Centre. \nIf the weather isn’t suitable on the 26th\, the event will be moved to the 27th. \n**UPDATE: The event will be held on August 26th rain or shine. If it is raining\, we’ll enjoy our burgers and corn inside the Heritage Centre.** \nThere will be picnic tables and you are welcome to bring your own lawn chairs or picnic blankets for seating.
URL:https://paradisehistoricalsociety.ca/event/3rd-annual-meet-greet-bbq/
LOCATION:Paradise Heritage Centre\, 10307 Highway #1\, Paradise\, Nova Scotia\, Canada
ATTACH;FMTTYPE=image/jpeg:https://paradisehistoricalsociety.ca/wp-content/uploads/2022/07/PHS-2nd-Annual-Meet-Greet-Feature.jpg
END:VEVENT
END:VCALENDAR