BEGIN:VCALENDAR
VERSION:2.0
PRODID:-//Paradise Historical Society - ECPv6.15.20//NONSGML v1.0//EN
CALSCALE:GREGORIAN
METHOD:PUBLISH
X-ORIGINAL-URL:https://paradisehistoricalsociety.ca
X-WR-CALDESC:Events for Paradise Historical Society
REFRESH-INTERVAL;VALUE=DURATION:PT1H
X-Robots-Tag:noindex
X-PUBLISHED-TTL:PT1H
BEGIN:VTIMEZONE
TZID:America/Halifax
BEGIN:DAYLIGHT
TZOFFSETFROM:-0400
TZOFFSETTO:-0300
TZNAME:ADT
DTSTART:20250309T060000
END:DAYLIGHT
BEGIN:STANDARD
TZOFFSETFROM:-0300
TZOFFSETTO:-0400
TZNAME:AST
DTSTART:20251102T050000
END:STANDARD
BEGIN:DAYLIGHT
TZOFFSETFROM:-0400
TZOFFSETTO:-0300
TZNAME:ADT
DTSTART:20260308T060000
END:DAYLIGHT
BEGIN:STANDARD
TZOFFSETFROM:-0300
TZOFFSETTO:-0400
TZNAME:AST
DTSTART:20261101T050000
END:STANDARD
BEGIN:DAYLIGHT
TZOFFSETFROM:-0400
TZOFFSETTO:-0300
TZNAME:ADT
DTSTART:20270314T060000
END:DAYLIGHT
BEGIN:STANDARD
TZOFFSETFROM:-0300
TZOFFSETTO:-0400
TZNAME:AST
DTSTART:20271107T050000
END:STANDARD
END:VTIMEZONE
BEGIN:VEVENT
DTSTART;TZID=America/Halifax:20260606T090000
DTEND;TZID=America/Halifax:20260606T130000
DTSTAMP:20260425T124704
CREATED:20260327T174856Z
LAST-MODIFIED:20260327T174856Z
UID:233460-1780736400-1780750800@paradisehistoricalsociety.ca
SUMMARY:Plants & Pies
DESCRIPTION:The Paradise Historical Society is hosting a Plants & Pies sale.  \nCome check out the selection of house plants\, garden plants\, and delicious pies. \nYour purchase will help support the Paradise Historical Society and our Heritage Centre. \nDate & Time: Saturday\, June 6\, 2026 from 9:00 am to 1:00 pm. \nLocation: Paradise Heritage Centre at 10307 Highway #1 in Paradise. \nIf you can donate a plant or pie to our sale\, please contact Barbara at 825-9198. \nThank you!
URL:https://paradisehistoricalsociety.ca/event/plants-pies-2026/
LOCATION:Paradise Heritage Centre\, 10307 Highway #1\, Paradise\, Nova Scotia\, Canada
ATTACH;FMTTYPE=image/jpeg:https://paradisehistoricalsociety.ca/wp-content/uploads/2026/03/Plants-and-PIes-2026.jpg
END:VEVENT
BEGIN:VEVENT
DTSTART;TZID=America/Halifax:20260607T100000
DTEND;TZID=America/Halifax:20260607T150000
DTSTAMP:20260425T124704
CREATED:20260223T000532Z
LAST-MODIFIED:20260224T195249Z
UID:233394-1780826400-1780844400@paradisehistoricalsociety.ca
SUMMARY:2026 Rug Hooking Workshop #2
DESCRIPTION:BACK BY POPULAR DEMAND!\nThe coveted Rug Hooking for Beginners workshop at the Paradise Heritage Centre is back … with a twist! \nA comprehensive\, hands-on\, beginner rug hooking course will be held at the Paradise Heritage Centre at 10307 Highway #1 in Paradise. \nMonica and Linda will welcome you and get you on your way to enjoying on of Nova Scotia’s most cherished heritage crafts. \nThis year we are adding a second day to this rug hooking workshop. The first day covers rug hooking instruction\, designing\, transferring your pattern to linen\, colour selection\, and the hands-on hooking portion of the course. \nYou will then have a week to complete your hooked piece at home\, and return seven days later with your piece fully hooked and ready to learn blocking and finishing techniques. \nFee: $100.00 (for the two sessions) \nDay 1: Sunday\, June 7\, 2026 from 10:00 am to 3:00 pm \nDay 2: Sunday\, June 14\, 2026 from 10:00 am to 3:00 pm \nYou will be hooking a “Mug Rug” (coaster) and the workshop will include use of a frame\, hook\, and scissors. You will be given the yarn and fabric needed to complete your project. \nFun and camaraderie are part of the package! \nSpaces are limited. \nTo register and/or get more information\, please click here to send an email to Barbara. \nIn your email please indicate which workshop date you wish to attend. \n*PLEASE NOTE: This event listing is for workshop #2. To get the dates for workshop #1\, please click here.*
URL:https://paradisehistoricalsociety.ca/event/rug-hooking-workshop-2026-2/
LOCATION:Paradise Heritage Centre\, 10307 Highway #1\, Paradise\, Nova Scotia\, Canada
ATTACH;FMTTYPE=image/jpeg:https://paradisehistoricalsociety.ca/wp-content/uploads/2024/02/Rug-Hooking-2024-1.jpg
END:VEVENT
BEGIN:VEVENT
DTSTART;TZID=America/Halifax:20260613T110000
DTEND;TZID=America/Halifax:20260613T140000
DTSTAMP:20260425T124704
CREATED:20260215T231355Z
LAST-MODIFIED:20260321T003639Z
UID:233274-1781348400-1781359200@paradisehistoricalsociety.ca
SUMMARY:BBQ & Open House
DESCRIPTION:Paradise Historical Society would like to invite all friends and neighbours to celebrate with us.\nThe Paradise Heritage Centre\, first known as Paradise Academy and later Paradise School\, has been honoured with registration as a Provincial Heritage Property. \nWe are holding a free BBQ and Open House to celebrate and unveil our plaque. \nMusic will be provided by Paradise Brass \nCome to tour our beautiful building and grounds\, learn about our programs\, and enjoy the day with us. \nThe event will take place on Saturday\, June 13\, 2026\, from 11:00 am to 2:00 pm at the Paradise Heritage Centre – rain or shine! \nThere are picnic tables but you are welcome to bring your lawn chairs or picnic blankets for seating. \nPlease enable JavaScript in your browser to complete this form.Contact Name *Email *EmailConfirm EmailNumber of People Attending In Your Group *Would You Like to Sign Up For the Paradise Historical Society Email List?  *Yes\, please sign me up!No\, please use my email address for notifications about this event only.Please check the 'YES' box if you'd like to sign up to our general email list to receive notifications about news\, updates\, and notifications for future events.Questions? Please feel free to let us know if you have any questions about the event and we'll respond to the email address you provided ASAP. Submit
URL:https://paradisehistoricalsociety.ca/event/bbq-2026/
LOCATION:Paradise Heritage Centre\, 10307 Highway #1\, Paradise\, Nova Scotia\, Canada
ATTACH;FMTTYPE=image/jpeg:https://paradisehistoricalsociety.ca/wp-content/uploads/2026/02/PHS-BBQ-and-Open-House-June-2026.jpg
END:VEVENT
END:VCALENDAR