BEGIN:VCALENDAR
VERSION:2.0
PRODID:-//Paradise Historical Society - ECPv6.15.20//NONSGML v1.0//EN
CALSCALE:GREGORIAN
METHOD:PUBLISH
X-ORIGINAL-URL:https://paradisehistoricalsociety.ca
X-WR-CALDESC:Events for Paradise Historical Society
REFRESH-INTERVAL;VALUE=DURATION:PT1H
X-Robots-Tag:noindex
X-PUBLISHED-TTL:PT1H
BEGIN:VTIMEZONE
TZID:America/Halifax
BEGIN:DAYLIGHT
TZOFFSETFROM:-0400
TZOFFSETTO:-0300
TZNAME:ADT
DTSTART:20240310T060000
END:DAYLIGHT
BEGIN:STANDARD
TZOFFSETFROM:-0300
TZOFFSETTO:-0400
TZNAME:AST
DTSTART:20241103T050000
END:STANDARD
BEGIN:DAYLIGHT
TZOFFSETFROM:-0400
TZOFFSETTO:-0300
TZNAME:ADT
DTSTART:20250309T060000
END:DAYLIGHT
BEGIN:STANDARD
TZOFFSETFROM:-0300
TZOFFSETTO:-0400
TZNAME:AST
DTSTART:20251102T050000
END:STANDARD
BEGIN:DAYLIGHT
TZOFFSETFROM:-0400
TZOFFSETTO:-0300
TZNAME:ADT
DTSTART:20260308T060000
END:DAYLIGHT
BEGIN:STANDARD
TZOFFSETFROM:-0300
TZOFFSETTO:-0400
TZNAME:AST
DTSTART:20261101T050000
END:STANDARD
BEGIN:DAYLIGHT
TZOFFSETFROM:-0400
TZOFFSETTO:-0300
TZNAME:ADT
DTSTART:20270314T060000
END:DAYLIGHT
BEGIN:STANDARD
TZOFFSETFROM:-0300
TZOFFSETTO:-0400
TZNAME:AST
DTSTART:20271107T050000
END:STANDARD
END:VTIMEZONE
BEGIN:VEVENT
DTSTART;TZID=America/Halifax:20260330T183000
DTEND;TZID=America/Halifax:20260330T203000
DTSTAMP:20260424T162231
CREATED:20260301T234613Z
LAST-MODIFIED:20260301T234613Z
UID:233448-1774895400-1774902600@paradisehistoricalsociety.ca
SUMMARY:Genealogy Circle
DESCRIPTION:Are you curious about your family history? Want to learn how to start researching your roots or dig deeper into your ancestral story?  \nJoin our Genealogy Circle! \nWe are resuming our genealogy evenings and to kick off 2026 we welcome Barbara Bishop as she teaches us about the value of estate inventories with her presentation\, “Finding Lost History: How Family Estate Inventories Paint Pictures“. \nIt is sure to be another informative and valuable evening learning more ways we can uncover our family history. \nDate & Time: Monday\, March 30th\, 2026 at 6:30 pm \nLocation: Paradise Heritage Centre at 10307 Highway #1 in Paradise \nThe Genealogy Circle meets regularly to learn\, share discoveries\, explore local resources\, and support one another in uncovering our pasts. \nAll are welcome and no experience needed. \nThe Genealogy Circle operates on a “pay as you can” donation basis. Your contributions help support future gathering\, but most importantly\, your presence is what truly matters.  \nCome be part of a growing community of family history enthusiasts! \nRSVP\nPlease enable JavaScript in your browser to complete this form.Contact Name *Email *EmailConfirm EmailNumber of People Attending *Would You Like to Sign Up For the Paradise Historical Society Email List?  *Yes\, please sign me up!No\, please use my email address for notifications about this event only.Please check the 'YES' box if you'd like to sign up to our general email list to receive notifications about news\, updates\, and notifications for future events.Questions? Please feel free to let us know if you have any questions about the event and we'll respond to the email address you provided ASAP. Submit
URL:https://paradisehistoricalsociety.ca/event/genealogy-circle-march-2026/
LOCATION:Paradise Heritage Centre\, 10307 Highway #1\, Paradise\, Nova Scotia\, Canada
CATEGORIES:Genealogy Group
ATTACH;FMTTYPE=image/jpeg:https://paradisehistoricalsociety.ca/wp-content/uploads/2025/04/Genealogy-Group.jpg
END:VEVENT
BEGIN:VEVENT
DTSTART;TZID=America/Halifax:20251007T183000
DTEND;TZID=America/Halifax:20251007T200000
DTSTAMP:20260424T162231
CREATED:20250729T184548Z
LAST-MODIFIED:20250929T142810Z
UID:233103-1759861800-1759867200@paradisehistoricalsociety.ca
SUMMARY:Genealogy Circle
DESCRIPTION:Are you curious about your family history? Want to learn how to start researching your roots or dig deeper into your ancestral story?  \nJoin our Genealogy Circle! \nJoin us for an inspiring evening as local genealogist Denise Rice brings to life the extraordinary story of Rose Fortune— an amazing woman and one of the 3\,000 Black Loyalists who found freedom and new beginnings in Nova Scotia by supporting Britain during the American Revolution. \nRecognized as a National Historic Person in 2017\, Rose’s legacy continues to shape our understanding of resilience\, community\, and the rich tapestry of Black history in Canada. \nDon’t miss this chance to explore a remarkable chapter of our local heritage through Denise’s storytelling and research. \nDate & Time: Tuesday\, October 7th\, 2025 at 6:30 pm \nLocation: Paradise Heritage Centre at 10307 Highway #1 in Paradise \nThe Genealogy Circle meets regularly to learn\, share discoveries\, explore local resources\, and support one another in uncovering our pasts. \nAll are welcome and no experience needed. \nThe Genealogy Circle operates on a “pay as you can” donation basis. Your contributions help support future gathering\, but most importantly\, your presence is what truly matters.  \nCome be part of a growing community of family history enthusiasts! \nRSVP\nPlease click HERE to email Barbara to RSVP. In your email\, please let her know which event you are registering for.
URL:https://paradisehistoricalsociety.ca/event/genealogy-circle-5/
LOCATION:Paradise Heritage Centre\, 10307 Highway #1\, Paradise\, Nova Scotia\, Canada
CATEGORIES:Genealogy Group
ATTACH;FMTTYPE=image/jpeg:https://paradisehistoricalsociety.ca/wp-content/uploads/2025/04/Genealogy-Group.jpg
END:VEVENT
BEGIN:VEVENT
DTSTART;TZID=America/Halifax:20250916T183000
DTEND;TZID=America/Halifax:20250916T200000
DTSTAMP:20260424T162231
CREATED:20250729T183430Z
LAST-MODIFIED:20250729T183454Z
UID:233093-1758047400-1758052800@paradisehistoricalsociety.ca
SUMMARY:Genealogy Circle
DESCRIPTION:Are you curious about your family history? Want to learn how to start researching your roots or dig deeper into your ancestral story?  \nJoin our Genealogy Circle! \nFor this meeting\, we’re turning the spotlight on you! \nBring along your personal genealogy projects—whether they’re polished family trees or a handful of intriguing clues—and join us for an evening of open sharing\, insightful questions\, and friendly advice. \nThis is a chance to learn from one another’s research journeys\, explore new resources\, and maybe even spark unexpected connections. \nDate & Time: Tuesday\, September 16th\, 2025 at 6:30 pm \nLocation: Paradise Heritage Centre at 10307 Highway #1 in Paradise \nThe Genealogy Circle meets regularly to learn\, share discoveries\, explore local resources\, and support one another in uncovering our pasts. \nAll are welcome and no experience needed. \nThe Genealogy Circle operates on a “pay as you can” donation basis. Your contributions help support future gathering\, but most importantly\, your presence is what truly matters.  \nCome be part of a growing community of family history enthusiasts! \nRSVP\nPlease enable JavaScript in your browser to complete this form.Contact Name *Email *EmailConfirm EmailNumber of People Attending *Would You Like to Sign Up For the Paradise Historical Society Email List?  *Yes\, please sign me up!No\, please use my email address for notifications about this event only.Please check the 'YES' box if you'd like to sign up to our general email list to receive notifications about news\, updates\, and notifications for future events.Questions? Please feel free to let us know if you have any questions about the event and we'll respond to the email address you provided ASAP. Submit
URL:https://paradisehistoricalsociety.ca/event/genealogy-circle-4/
LOCATION:Paradise Heritage Centre\, 10307 Highway #1\, Paradise\, Nova Scotia\, Canada
CATEGORIES:Genealogy Group
ATTACH;FMTTYPE=image/jpeg:https://paradisehistoricalsociety.ca/wp-content/uploads/2025/04/Genealogy-Group.jpg
END:VEVENT
BEGIN:VEVENT
DTSTART;TZID=America/Halifax:20250902T183000
DTEND;TZID=America/Halifax:20250902T200000
DTSTAMP:20260424T162231
CREATED:20250729T181819Z
LAST-MODIFIED:20250729T181819Z
UID:233090-1756837800-1756843200@paradisehistoricalsociety.ca
SUMMARY:Genealogy Circle
DESCRIPTION:Are you curious about your family history? Want to learn how to start researching your roots or dig deeper into your ancestral story?  \nJoin our Genealogy Circle! \nWe’re excited to welcome local genealogist\, Jim Eakins\, to this meeting—a true treasure in our community with an extensive collection of family histories and regional resources. \nWith many years of experience and an unmatched dedication to preserving local heritage\, he’ll be sharing his knowledge\, unique materials\, and insights into tracing family lines in our area. \nWhether you’re just starting your journey or deep into your research\, this is a chance to connect\, learn\, and be inspired. \nDate & Time: Tuesday\, September 2nd\, 2025 at 6:30 pm \nLocation: Paradise Heritage Centre at 10307 Highway #1 in Paradise \nThe Genealogy Circle meets regularly to learn\, share discoveries\, explore local resources\, and support one another in uncovering our pasts. \nAll are welcome and no experience needed. \nThe Genealogy Circle operates on a “pay as you can” donation basis. Your contributions help support future gathering\, but most importantly\, your presence is what truly matters.  \nCome be part of a growing community of family history enthusiasts! \nRSVP\nPlease enable JavaScript in your browser to complete this form.Contact Name *Email *EmailConfirm EmailNumber of People Attending *Would You Like to Sign Up For the Paradise Historical Society Email List?  *Yes\, please sign me up!No\, please use my email address for notifications about this event only.Please check the 'YES' box if you'd like to sign up to our general email list to receive notifications about news\, updates\, and notifications for future events.Questions? Please feel free to let us know if you have any questions about the event and we'll respond to the email address you provided ASAP. Submit   \n 
URL:https://paradisehistoricalsociety.ca/event/genealogy-circle-3/
LOCATION:Paradise Heritage Centre\, 10307 Highway #1\, Paradise\, Nova Scotia\, Canada
CATEGORIES:Genealogy Group
ATTACH;FMTTYPE=image/jpeg:https://paradisehistoricalsociety.ca/wp-content/uploads/2025/04/Genealogy-Group.jpg
END:VEVENT
BEGIN:VEVENT
DTSTART;TZID=America/Halifax:20250708T183000
DTEND;TZID=America/Halifax:20250708T200000
DTSTAMP:20260424T162231
CREATED:20250613T173316Z
LAST-MODIFIED:20250613T175608Z
UID:233076-1751999400-1752004800@paradisehistoricalsociety.ca
SUMMARY:Genealogy Circle
DESCRIPTION:Are you curious about your family history? Want to learn how to start researching your roots or dig deeper into your ancestral story?  \nJoin our Genealogy Circle! \nNext Meeting: \nDate & Time: Tuesday\, July 8th at 6:30 pm \nLocation: Paradise Heritage Centre at 10307 Highway #1 in Paradise \nThe Genealogy Circle will meet regularly to learn\, share discoveries\, explore local resources\, and support one another in uncovering our pasts. \nAll are welcome and no experience needed. \nCome be part of a growing community of family history enthusiasts! \nRSVP\nPlease enable JavaScript in your browser to complete this form.Contact Name *Email *EmailConfirm EmailNumber of People Attending *Would You Like to Sign Up For the Paradise Historical Society Email List?  *Yes\, please sign me up!No\, please use my email address for notifications about this event only.Please check the 'YES' box if you'd like to sign up to our general email list to receive notifications about news\, updates\, and notifications for future events.Questions? Please feel free to let us know if you have any questions about the event and we'll respond to the email address you provided ASAP. Submit
URL:https://paradisehistoricalsociety.ca/event/genealogy-group-2/
LOCATION:Paradise Heritage Centre\, 10307 Highway #1\, Paradise\, Nova Scotia\, Canada
CATEGORIES:Genealogy Group
ATTACH;FMTTYPE=image/jpeg:https://paradisehistoricalsociety.ca/wp-content/uploads/2025/04/Genealogy-Group.jpg
END:VEVENT
BEGIN:VEVENT
DTSTART;TZID=America/Halifax:20250610T183000
DTEND;TZID=America/Halifax:20250610T203000
DTSTAMP:20260424T162231
CREATED:20250427T223413Z
LAST-MODIFIED:20250427T223929Z
UID:233058-1749580200-1749587400@paradisehistoricalsociety.ca
SUMMARY:Genealogy Circle
DESCRIPTION:Are you curious about your family history? Want to learn how to start researching your roots or dig deeper into your ancestral story?  \nJoin us as we launch our brand-new Genealogy Circle this summer! \nWe’re excited to kick things off with a special guest: local genealogist Denise Rice\, who will be sharing her expertise in our first session. \nDenise will guide us through some essentials that every genealogist—beginner or experienced—should know. \nDate & Time: Tuesday\, June 10\, 2025 at 6:30 pm. \nLocation: Paradise Heritage Centre at 10307 Highway #1 in Paradise \nThe Genealogy Group will meet regularly to learn\, share discoveries\, explore local resources\, and support one another in uncovering our pasts. \nAll are welcome and no experience needed. \nCome be part of a growing community of family history enthusiasts! \nRSVP\nPlease enable JavaScript in your browser to complete this form.Contact Name *Email *EmailConfirm EmailNumber of People Attending *Would You Like to Sign Up For the Paradise Historical Society Email List?  *Yes\, please sign me up!No\, please use my email address for notifications about this event only.Please check the 'YES' box if you'd like to sign up to our general email list to receive notifications about news\, updates\, and notifications for future events.Questions? Please feel free to let us know if you have any questions about the event and we'll respond to the email address you provided ASAP. Submit
URL:https://paradisehistoricalsociety.ca/event/genealogy-group/
LOCATION:Paradise Heritage Centre\, 10307 Highway #1\, Paradise\, Nova Scotia\, Canada
CATEGORIES:Genealogy Group
ATTACH;FMTTYPE=image/jpeg:https://paradisehistoricalsociety.ca/wp-content/uploads/2025/04/Genealogy-Group.jpg
END:VEVENT
END:VCALENDAR