BEGIN:VCALENDAR
VERSION:2.0
PRODID:-//Paradise Historical Society - ECPv6.15.20//NONSGML v1.0//EN
CALSCALE:GREGORIAN
METHOD:PUBLISH
X-WR-CALNAME:Paradise Historical Society
X-ORIGINAL-URL:https://paradisehistoricalsociety.ca
X-WR-CALDESC:Events for Paradise Historical Society
REFRESH-INTERVAL;VALUE=DURATION:PT1H
X-Robots-Tag:noindex
X-PUBLISHED-TTL:PT1H
BEGIN:VTIMEZONE
TZID:America/Halifax
BEGIN:DAYLIGHT
TZOFFSETFROM:-0400
TZOFFSETTO:-0300
TZNAME:ADT
DTSTART:20250309T060000
END:DAYLIGHT
BEGIN:STANDARD
TZOFFSETFROM:-0300
TZOFFSETTO:-0400
TZNAME:AST
DTSTART:20251102T050000
END:STANDARD
BEGIN:DAYLIGHT
TZOFFSETFROM:-0400
TZOFFSETTO:-0300
TZNAME:ADT
DTSTART:20260308T060000
END:DAYLIGHT
BEGIN:STANDARD
TZOFFSETFROM:-0300
TZOFFSETTO:-0400
TZNAME:AST
DTSTART:20261101T050000
END:STANDARD
BEGIN:DAYLIGHT
TZOFFSETFROM:-0400
TZOFFSETTO:-0300
TZNAME:ADT
DTSTART:20270314T060000
END:DAYLIGHT
BEGIN:STANDARD
TZOFFSETFROM:-0300
TZOFFSETTO:-0400
TZNAME:AST
DTSTART:20271107T050000
END:STANDARD
END:VTIMEZONE
BEGIN:VEVENT
DTSTART;TZID=America/Halifax:20260427T183000
DTEND;TZID=America/Halifax:20260427T200000
DTSTAMP:20260424T175040
CREATED:20260408T135205Z
LAST-MODIFIED:20260408T135205Z
UID:233466-1777314600-1777320000@paradisehistoricalsociety.ca
SUMMARY:Genealogy Circle
DESCRIPTION:Are you curious about your family history? Want to learn how to start researching your roots or dig deeper into your ancestral story?  \nJoin our Genealogy Circle! \nAt this meeting\, we’re delighted that Linda Bent will be giving a presentation about “Annapolis County Built Heritage Inventory“. \nWe’ll learn what the inventory includes and ways it can support our local history and genealogy research. \nIt’s a wonderful chance to learn more of the places and structures that shaped the families we study. \nWe hope you’ll join us! \nDate & Time: Monday\, April 27th\, 2026 at 6:30 pm \nLocation: Paradise Heritage Centre at 10307 Highway #1 in Paradise \nThe Genealogy Circle meets regularly to learn\, share discoveries\, explore local resources\, and support one another in uncovering our pasts. \nAll are welcome and no experience needed. \nThe Genealogy Circle operates on a “pay as you can” donation basis. Your contributions help support future gathering\, but most importantly\, your presence is what truly matters.  \nCome be part of a growing community of family history enthusiasts! \nRSVP\nPlease enable JavaScript in your browser to complete this form.Contact Name *Email *EmailConfirm EmailNumber of People Attending *Would You Like to Sign Up For the Paradise Historical Society Email List?  *Yes\, please sign me up!No\, please use my email address for notifications about this event only.Please check the 'YES' box if you'd like to sign up to our general email list to receive notifications about news\, updates\, and notifications for future events.Questions? Please feel free to let us know if you have any questions about the event and we'll respond to the email address you provided ASAP. Submit
URL:https://paradisehistoricalsociety.ca/event/genealogy-circle-april-2026/
LOCATION:Paradise Heritage Centre\, 10307 Highway #1\, Paradise\, Nova Scotia\, Canada
CATEGORIES:Genealogy Group
ATTACH;FMTTYPE=image/jpeg:https://paradisehistoricalsociety.ca/wp-content/uploads/2025/04/Genealogy-Group.jpg
END:VEVENT
END:VCALENDAR