BEGIN:VCALENDAR
VERSION:2.0
PRODID:-//Paradise Historical Society - ECPv6.15.20//NONSGML v1.0//EN
CALSCALE:GREGORIAN
METHOD:PUBLISH
X-WR-CALNAME:Paradise Historical Society
X-ORIGINAL-URL:https://paradisehistoricalsociety.ca
X-WR-CALDESC:Events for Paradise Historical Society
REFRESH-INTERVAL;VALUE=DURATION:PT1H
X-Robots-Tag:noindex
X-PUBLISHED-TTL:PT1H
BEGIN:VTIMEZONE
TZID:America/Halifax
BEGIN:DAYLIGHT
TZOFFSETFROM:-0400
TZOFFSETTO:-0300
TZNAME:ADT
DTSTART:20250309T060000
END:DAYLIGHT
BEGIN:STANDARD
TZOFFSETFROM:-0300
TZOFFSETTO:-0400
TZNAME:AST
DTSTART:20251102T050000
END:STANDARD
BEGIN:DAYLIGHT
TZOFFSETFROM:-0400
TZOFFSETTO:-0300
TZNAME:ADT
DTSTART:20260308T060000
END:DAYLIGHT
BEGIN:STANDARD
TZOFFSETFROM:-0300
TZOFFSETTO:-0400
TZNAME:AST
DTSTART:20261101T050000
END:STANDARD
BEGIN:DAYLIGHT
TZOFFSETFROM:-0400
TZOFFSETTO:-0300
TZNAME:ADT
DTSTART:20270314T060000
END:DAYLIGHT
BEGIN:STANDARD
TZOFFSETFROM:-0300
TZOFFSETTO:-0400
TZNAME:AST
DTSTART:20271107T050000
END:STANDARD
END:VTIMEZONE
BEGIN:VEVENT
DTSTART;TZID=America/Halifax:20260426T100000
DTEND;TZID=America/Halifax:20260426T150000
DTSTAMP:20260426T012000
CREATED:20260223T000331Z
LAST-MODIFIED:20260224T195330Z
UID:233390-1777197600-1777215600@paradisehistoricalsociety.ca
SUMMARY:2026 Rug Hooking Workshop #1
DESCRIPTION:BACK BY POPULAR DEMAND!\nThe coveted Rug Hooking for Beginners workshop at the Paradise Heritage Centre is back … with a twist! \nA comprehensive\, hands-on\, beginner rug hooking course will be held at the Paradise Heritage Centre at 10307 Highway #1 in Paradise. \nMonica and Linda will welcome you and get you on your way to enjoying on of Nova Scotia’s most cherished heritage crafts. \nThis year we are adding a second day to this rug hooking workshop. The first day covers rug hooking instruction\, designing\, transferring your pattern to linen\, colour selection\, and the hands-on hooking portion of the course. \nYou will then have a week to complete your hooked piece at home\, and return seven days later with your piece fully hooked and ready to learn blocking and finishing techniques. \nFee: $100.00 (for the two sessions) \nDay 1: Sunday\, April 26\, 2026 from 10:00 am to 3:00 pm \nDay 2: Sunday\, May 3\, 2026 from 10:00 am to 3:00 pm \nYou will be hooking a “Mug Rug” (coaster) and the workshop will include use of a frame\, hook\, and scissors. You will be given the yarn and fabric needed to complete your project. \nFun and camaraderie are part of the package! \nSpaces are limited. \nTo register and/or get more information\, please click here to send an email to Barbara. \nIn your email please indicate which workshop date you wish to attend. \n*PLEASE NOTE: This event listing is for workshop #1. To get the dates for workshop #2\, please click here.*
URL:https://paradisehistoricalsociety.ca/event/rug-hooking-workshop-2026-1/
LOCATION:Paradise Heritage Centre\, 10307 Highway #1\, Paradise\, Nova Scotia\, Canada
ATTACH;FMTTYPE=image/jpeg:https://paradisehistoricalsociety.ca/wp-content/uploads/2024/02/Rug-Hooking-2024-1.jpg
END:VEVENT
END:VCALENDAR