BEGIN:VCALENDAR
VERSION:2.0
PRODID:-//Paradise Historical Society - ECPv6.15.20//NONSGML v1.0//EN
CALSCALE:GREGORIAN
METHOD:PUBLISH
X-ORIGINAL-URL:https://paradisehistoricalsociety.ca
X-WR-CALDESC:Events for Paradise Historical Society
REFRESH-INTERVAL;VALUE=DURATION:PT1H
X-Robots-Tag:noindex
X-PUBLISHED-TTL:PT1H
BEGIN:VTIMEZONE
TZID:America/Halifax
BEGIN:DAYLIGHT
TZOFFSETFROM:-0400
TZOFFSETTO:-0300
TZNAME:ADT
DTSTART:20250309T060000
END:DAYLIGHT
BEGIN:STANDARD
TZOFFSETFROM:-0300
TZOFFSETTO:-0400
TZNAME:AST
DTSTART:20251102T050000
END:STANDARD
BEGIN:DAYLIGHT
TZOFFSETFROM:-0400
TZOFFSETTO:-0300
TZNAME:ADT
DTSTART:20260308T060000
END:DAYLIGHT
BEGIN:STANDARD
TZOFFSETFROM:-0300
TZOFFSETTO:-0400
TZNAME:AST
DTSTART:20261101T050000
END:STANDARD
BEGIN:DAYLIGHT
TZOFFSETFROM:-0400
TZOFFSETTO:-0300
TZNAME:ADT
DTSTART:20270314T060000
END:DAYLIGHT
BEGIN:STANDARD
TZOFFSETFROM:-0300
TZOFFSETTO:-0400
TZNAME:AST
DTSTART:20271107T050000
END:STANDARD
END:VTIMEZONE
BEGIN:VEVENT
DTSTART;TZID=America/Halifax:20260419T140000
DTEND;TZID=America/Halifax:20260419T140000
DTSTAMP:20260424T145456
CREATED:20260224T202542Z
LAST-MODIFIED:20260224T202542Z
UID:233432-1776607200-1776607200@paradisehistoricalsociety.ca
SUMMARY:Signature Quilt Quest
DESCRIPTION:Did you ever think of how our foremothers who created special quilts for remembrance\, fundraising\, or gifts\, were really the keepers of history? \n This is especially true for “Signature Quilts”.  \nThey were given as presentation gifts for\, say a minister leaving the community or a bride moving to a new home. Perhaps a family member emigrated to another country or province\, and the signatures embroidered with love and care. “Remember us! Remember where you came from! “ \n Sometimes a quilt would be a fundraiser for a church\, an organization\, a community. You would pay ten cents or so to have your name embroidered. It added up\, and such quilts made many contributions to community infrastructure or organizations. These are valuable historical  and genealogical documents as well as cherished artifacts. \nThe Paradise Historical Society is the grateful recipient of one such quilt.  We invite you to a very special viewing –  a Quest\, if you like. Our quilt has 221 signatures embroidered on white cotton. We invite you to come and see if you recognize the names of community members or your ancestors from the early 20th century – or just to see this bit of living history. \nThe quilt is dated 1911/12 and existed or travelled for months before it was finished. There are names from Paradise\, Nictaux\, Kingston\, Port Williams\, New Albany\, even Cuba! There are family names\, clergy names\, boarders’ names-names of people here before us who may or may not still be in our memory. \nThe event will take place on Sunday\, April 19\, 2026\, at 2:00 pm at the Paradise Heritage Centre \nTea and cake will be served. \nAdmission is free but we ask you to register so we know how big we need to make our cake. \nPlease enable JavaScript in your browser to complete this form.Contact Name *Email *EmailConfirm EmailNumber of People Attending In Your Group *Would You Like to Sign Up For the Paradise Historical Society Email List?  *Yes\, please sign me up!No\, please use my email address for notifications about this event only.Please check the 'YES' box if you'd like to sign up to our general email list to receive notifications about news\, updates\, and notifications for future events.Questions? Please feel free to let us know if you have any questions about the event and we'll respond to the email address you provided ASAP. Submit
URL:https://paradisehistoricalsociety.ca/event/signature-quilt/
LOCATION:Paradise Heritage Centre\, 10307 Highway #1\, Paradise\, Nova Scotia\, Canada
ATTACH;FMTTYPE=image/jpeg:https://paradisehistoricalsociety.ca/wp-content/uploads/2026/02/Signature-Quilt-2026.jpg
END:VEVENT
END:VCALENDAR