BEGIN:VCALENDAR
VERSION:2.0
PRODID:-//Paradise Historical Society - ECPv6.15.20//NONSGML v1.0//EN
CALSCALE:GREGORIAN
METHOD:PUBLISH
X-WR-CALNAME:Paradise Historical Society
X-ORIGINAL-URL:https://paradisehistoricalsociety.ca
X-WR-CALDESC:Events for Paradise Historical Society
REFRESH-INTERVAL;VALUE=DURATION:PT1H
X-Robots-Tag:noindex
X-PUBLISHED-TTL:PT1H
BEGIN:VTIMEZONE
TZID:America/Halifax
BEGIN:DAYLIGHT
TZOFFSETFROM:-0400
TZOFFSETTO:-0300
TZNAME:ADT
DTSTART:20240310T060000
END:DAYLIGHT
BEGIN:STANDARD
TZOFFSETFROM:-0300
TZOFFSETTO:-0400
TZNAME:AST
DTSTART:20241103T050000
END:STANDARD
BEGIN:DAYLIGHT
TZOFFSETFROM:-0400
TZOFFSETTO:-0300
TZNAME:ADT
DTSTART:20250309T060000
END:DAYLIGHT
BEGIN:STANDARD
TZOFFSETFROM:-0300
TZOFFSETTO:-0400
TZNAME:AST
DTSTART:20251102T050000
END:STANDARD
BEGIN:DAYLIGHT
TZOFFSETFROM:-0400
TZOFFSETTO:-0300
TZNAME:ADT
DTSTART:20260308T060000
END:DAYLIGHT
BEGIN:STANDARD
TZOFFSETFROM:-0300
TZOFFSETTO:-0400
TZNAME:AST
DTSTART:20261101T050000
END:STANDARD
END:VTIMEZONE
BEGIN:VEVENT
DTSTART;TZID=America/Halifax:20251123T100000
DTEND;TZID=America/Halifax:20251123T150000
DTSTAMP:20260424T222513
CREATED:20250830T190957Z
LAST-MODIFIED:20250830T190957Z
UID:233217-1763892000-1763910000@paradisehistoricalsociety.ca
SUMMARY:Christmas Craft Fair
DESCRIPTION:Come join us for our 4th Christmas Craft Fair!\nDate & Time: Sunday\, November 23\, 2025\, from 10:00 am to 3:00 pm \nWe are booking tables now for crafts and vendors. The price per table is $15. \nPlease click HERE to send Barbara an email to book your table. \nThe craft fair will be held at two sites: \nParadise Heritage Centre at 10307 Highway #1 \nAND \nParadise Community Hall at 10300 Highway #1 \n(these two sites are just across the street from each other)
URL:https://paradisehistoricalsociety.ca/event/craft-fair-2025/
LOCATION:Paradise Heritage Centre\, 10307 Highway #1\, Paradise\, Nova Scotia\, Canada
ATTACH;FMTTYPE=image/jpeg:https://paradisehistoricalsociety.ca/wp-content/uploads/2023/02/Upcoming-Christmas-Craft-Sale.jpg
END:VEVENT
END:VCALENDAR