BEGIN:VCALENDAR
VERSION:2.0
PRODID:-//Paradise Historical Society - ECPv6.15.20//NONSGML v1.0//EN
CALSCALE:GREGORIAN
METHOD:PUBLISH
X-WR-CALNAME:Paradise Historical Society
X-ORIGINAL-URL:https://paradisehistoricalsociety.ca
X-WR-CALDESC:Events for Paradise Historical Society
REFRESH-INTERVAL;VALUE=DURATION:PT1H
X-Robots-Tag:noindex
X-PUBLISHED-TTL:PT1H
BEGIN:VTIMEZONE
TZID:America/Halifax
BEGIN:DAYLIGHT
TZOFFSETFROM:-0400
TZOFFSETTO:-0300
TZNAME:ADT
DTSTART:20240310T060000
END:DAYLIGHT
BEGIN:STANDARD
TZOFFSETFROM:-0300
TZOFFSETTO:-0400
TZNAME:AST
DTSTART:20241103T050000
END:STANDARD
BEGIN:DAYLIGHT
TZOFFSETFROM:-0400
TZOFFSETTO:-0300
TZNAME:ADT
DTSTART:20250309T060000
END:DAYLIGHT
BEGIN:STANDARD
TZOFFSETFROM:-0300
TZOFFSETTO:-0400
TZNAME:AST
DTSTART:20251102T050000
END:STANDARD
BEGIN:DAYLIGHT
TZOFFSETFROM:-0400
TZOFFSETTO:-0300
TZNAME:ADT
DTSTART:20260308T060000
END:DAYLIGHT
BEGIN:STANDARD
TZOFFSETFROM:-0300
TZOFFSETTO:-0400
TZNAME:AST
DTSTART:20261101T050000
END:STANDARD
END:VTIMEZONE
BEGIN:VEVENT
DTSTART;TZID=America/Halifax:20250921T100000
DTEND;TZID=America/Halifax:20250921T120000
DTSTAMP:20260425T010714
CREATED:20250729T193922Z
LAST-MODIFIED:20250913T141839Z
UID:233113-1758448800-1758456000@paradisehistoricalsociety.ca
SUMMARY:How to Safely and Properly Clean a Gravestone
DESCRIPTION:How to Safely and Properly Clean a Gravestone with Denise Rice\nWe will meet at the Paradise Heritage Centre where we will get our briefing from Denise\, and head out to the cemetery for a field trip: a demonstration and a stroll through the past of Paradise in the cemetery for those who wish to linger and look. Following all this\, there will be nutrition and hydration (refreshments and nibbles) back at the Heritage Centre. \nDenise is one of our most noted genealogists\, and has kindly offered to show us what we need to know about this. \nShe is responsible for a huge portion of the knowledge we have of Annapolis County families\, giving freely of her time and expertise. She is a member of our Genealogy Circle at the Paradise Heritage Centre which meets monthly. \nHer research\, collections\, and compilations include a huge trove of obituaries now transcribed and available at Annapolis Genealogy. \nDenise’s own Facebook page is Home Genealogy by Denise J Rice \nShe has published too!  Denise J. (Daniels)\, A Planter Family: Ebenezer and Tabitha (Balcom) Rice of Annapolis County\, N.S.\, 2019. \nDate & Time: Sunday\, September 21\, 2025 at 10:00 am \nMeeting Location: Paradise Heritage Centre at 10307 Highway #1 in Paradise \nPlease Note: The Paradise Cemetery is about a 10-minute walk (750 m) from the Heritage Centre. You may also drive between the two locations. \nUPDATE SEPTEMBER 13\, 2025 – THIS EVENT IS NOW FULL.
URL:https://paradisehistoricalsociety.ca/event/gravestone-care/
LOCATION:Paradise Heritage Centre\, 10307 Highway #1\, Paradise\, Nova Scotia\, Canada
ATTACH;FMTTYPE=image/jpeg:https://paradisehistoricalsociety.ca/wp-content/uploads/2025/07/Paradise-Cemetery.jpg
END:VEVENT
END:VCALENDAR