BEGIN:VCALENDAR
VERSION:2.0
PRODID:-//Paradise Historical Society - ECPv6.15.20//NONSGML v1.0//EN
CALSCALE:GREGORIAN
METHOD:PUBLISH
X-WR-CALNAME:Paradise Historical Society
X-ORIGINAL-URL:https://paradisehistoricalsociety.ca
X-WR-CALDESC:Events for Paradise Historical Society
REFRESH-INTERVAL;VALUE=DURATION:PT1H
X-Robots-Tag:noindex
X-PUBLISHED-TTL:PT1H
BEGIN:VTIMEZONE
TZID:America/Halifax
BEGIN:DAYLIGHT
TZOFFSETFROM:-0400
TZOFFSETTO:-0300
TZNAME:ADT
DTSTART:20240310T060000
END:DAYLIGHT
BEGIN:STANDARD
TZOFFSETFROM:-0300
TZOFFSETTO:-0400
TZNAME:AST
DTSTART:20241103T050000
END:STANDARD
BEGIN:DAYLIGHT
TZOFFSETFROM:-0400
TZOFFSETTO:-0300
TZNAME:ADT
DTSTART:20250309T060000
END:DAYLIGHT
BEGIN:STANDARD
TZOFFSETFROM:-0300
TZOFFSETTO:-0400
TZNAME:AST
DTSTART:20251102T050000
END:STANDARD
BEGIN:DAYLIGHT
TZOFFSETFROM:-0400
TZOFFSETTO:-0300
TZNAME:ADT
DTSTART:20260308T060000
END:DAYLIGHT
BEGIN:STANDARD
TZOFFSETFROM:-0300
TZOFFSETTO:-0400
TZNAME:AST
DTSTART:20261101T050000
END:STANDARD
END:VTIMEZONE
BEGIN:VEVENT
DTSTART;TZID=America/Halifax:20250406T100000
DTEND;TZID=America/Halifax:20250406T160000
DTSTAMP:20260425T081542
CREATED:20250126T184147Z
LAST-MODIFIED:20250126T193628Z
UID:232795-1743933600-1743955200@paradisehistoricalsociety.ca
SUMMARY:Basket Making Workshop
DESCRIPTION:The Paradise Historical Society is hosting a basket-making workshop. \nShe is back! By popular request\, Linda\, our basket maker\, will once again share her gift with us. \nLearn how to weave your own basket and take it home with you! \nThis basket is not just decorative\, you will use it many times. \nDate & Time: Sunday\, April 6\, 2025\, from 10:00 am until your basket is finished \nLocation: Paradise Heritage Centre at 10307 Highway #1 in Paradise. \nCost: $60.00 which includes all the materials \nInstructor: Linda Hankinson \nPlease bring a lunch. \nSpaces are limited. \nTo reserve your space\, please click here to send an email to Barbara. \n \nHappy basket makers at our last workshop
URL:https://paradisehistoricalsociety.ca/event/basket-making-workshop-4/
LOCATION:Paradise Heritage Centre\, 10307 Highway #1\, Paradise\, Nova Scotia\, Canada
ATTACH;FMTTYPE=image/jpeg:https://paradisehistoricalsociety.ca/wp-content/uploads/2024/03/Basket-Making-Class.jpg
END:VEVENT
END:VCALENDAR