BEGIN:VCALENDAR
VERSION:2.0
PRODID:-//Paradise Historical Society - ECPv6.15.20//NONSGML v1.0//EN
CALSCALE:GREGORIAN
METHOD:PUBLISH
X-ORIGINAL-URL:https://paradisehistoricalsociety.ca
X-WR-CALDESC:Events for Paradise Historical Society
REFRESH-INTERVAL;VALUE=DURATION:PT1H
X-Robots-Tag:noindex
X-PUBLISHED-TTL:PT1H
BEGIN:VTIMEZONE
TZID:America/Halifax
BEGIN:DAYLIGHT
TZOFFSETFROM:-0400
TZOFFSETTO:-0300
TZNAME:ADT
DTSTART:20230312T060000
END:DAYLIGHT
BEGIN:STANDARD
TZOFFSETFROM:-0300
TZOFFSETTO:-0400
TZNAME:AST
DTSTART:20231105T050000
END:STANDARD
BEGIN:DAYLIGHT
TZOFFSETFROM:-0400
TZOFFSETTO:-0300
TZNAME:ADT
DTSTART:20240310T060000
END:DAYLIGHT
BEGIN:STANDARD
TZOFFSETFROM:-0300
TZOFFSETTO:-0400
TZNAME:AST
DTSTART:20241103T050000
END:STANDARD
BEGIN:DAYLIGHT
TZOFFSETFROM:-0400
TZOFFSETTO:-0300
TZNAME:ADT
DTSTART:20250309T060000
END:DAYLIGHT
BEGIN:STANDARD
TZOFFSETFROM:-0300
TZOFFSETTO:-0400
TZNAME:AST
DTSTART:20251102T050000
END:STANDARD
END:VTIMEZONE
BEGIN:VEVENT
DTSTART;TZID=America/Halifax:20240521T183000
DTEND;TZID=America/Halifax:20240521T200000
DTSTAMP:20260426T001306
CREATED:20240425T181137Z
LAST-MODIFIED:20240425T181803Z
UID:232548-1716316200-1716321600@paradisehistoricalsociety.ca
SUMMARY:Open House and Paradise Historical Society AGM
DESCRIPTION:You are invited to an Open House and the Annual General Meeting of the Paradise Historical Society \nDate & Time: Tuesday\, May 21 at 6:30 pm. \nLocation: Paradise Heritage Centre at 10307 Highway #1 in Paradise \nThere will be refreshments\, displays\, and reports on all of our progress. \nYou can hear about our plans for the future of the Heritage Centre and its place in our community. \nThis year’s raffle offerings will be set up for you to admire; each of the three items- quilt\, painting\, and hooked rug- represent the gifts of our artists and crafters and the beauty of this part of the world we call home.
URL:https://paradisehistoricalsociety.ca/event/agm-2024/
LOCATION:Paradise Heritage Centre\, 10307 Highway #1\, Paradise\, Nova Scotia\, Canada
ATTACH;FMTTYPE=image/jpeg:https://paradisehistoricalsociety.ca/wp-content/uploads/2023/05/Paradise-Heritage-Centre-Spring-2023.jpg
END:VEVENT
END:VCALENDAR