BEGIN:VCALENDAR
VERSION:2.0
PRODID:-//Paradise Historical Society - ECPv6.15.20//NONSGML v1.0//EN
CALSCALE:GREGORIAN
METHOD:PUBLISH
X-WR-CALNAME:Paradise Historical Society
X-ORIGINAL-URL:https://paradisehistoricalsociety.ca
X-WR-CALDESC:Events for Paradise Historical Society
REFRESH-INTERVAL;VALUE=DURATION:PT1H
X-Robots-Tag:noindex
X-PUBLISHED-TTL:PT1H
BEGIN:VTIMEZONE
TZID:America/Halifax
BEGIN:DAYLIGHT
TZOFFSETFROM:-0400
TZOFFSETTO:-0300
TZNAME:ADT
DTSTART:20230312T060000
END:DAYLIGHT
BEGIN:STANDARD
TZOFFSETFROM:-0300
TZOFFSETTO:-0400
TZNAME:AST
DTSTART:20231105T050000
END:STANDARD
BEGIN:DAYLIGHT
TZOFFSETFROM:-0400
TZOFFSETTO:-0300
TZNAME:ADT
DTSTART:20240310T060000
END:DAYLIGHT
BEGIN:STANDARD
TZOFFSETFROM:-0300
TZOFFSETTO:-0400
TZNAME:AST
DTSTART:20241103T050000
END:STANDARD
BEGIN:DAYLIGHT
TZOFFSETFROM:-0400
TZOFFSETTO:-0300
TZNAME:ADT
DTSTART:20250309T060000
END:DAYLIGHT
BEGIN:STANDARD
TZOFFSETFROM:-0300
TZOFFSETTO:-0400
TZNAME:AST
DTSTART:20251102T050000
END:STANDARD
END:VTIMEZONE
BEGIN:VEVENT
DTSTART;TZID=America/Halifax:20240416T190000
DTEND;TZID=America/Halifax:20240416T200000
DTSTAMP:20260426T012022
CREATED:20240403T165017Z
LAST-MODIFIED:20240403T165157Z
UID:232491-1713294000-1713297600@paradisehistoricalsociety.ca
SUMMARY:Keep Safe Online Community Presentation
DESCRIPTION:Join us April 16 at 7:00 pm for a presentation to learn great tips about keeping safe online.\nThere are things we all need to know. Some things we feel confident about\, others not so much. \nFeel free to bring your questions to this community presentation being offered by Lee Hopkins. \nThe event is free\, but please register by emailing info@paradisehistoricalsociety.ca so we can know how many people to expect. \nEveryone is welcome! \nThe presentation will be held at the Paradise Heritage Centre at 10307 Highway 1 in Paradise.
URL:https://paradisehistoricalsociety.ca/event/keep-safe-online-community-presentation/
LOCATION:Paradise Heritage Centre\, 10307 Highway #1\, Paradise\, Nova Scotia\, Canada
ATTACH;FMTTYPE=image/jpeg:https://paradisehistoricalsociety.ca/wp-content/uploads/2024/04/Keep-Safe-Online.jpg
END:VEVENT
END:VCALENDAR